BEGIN:VCALENDAR
VERSION:2.0
PRODID:-//Kitsap Humane Society - ECPv5.0.3.1//NONSGML v1.0//EN
CALSCALE:GREGORIAN
METHOD:PUBLISH
X-WR-CALNAME:Kitsap Humane Society
X-ORIGINAL-URL:https://www.kitsap-humane.org
X-WR-CALDESC:Events for Kitsap Humane Society
BEGIN:VTIMEZONE
TZID:America/Vancouver
BEGIN:DAYLIGHT
TZOFFSETFROM:-0800
TZOFFSETTO:-0700
TZNAME:PDT
DTSTART:20250309T100000
END:DAYLIGHT
BEGIN:STANDARD
TZOFFSETFROM:-0700
TZOFFSETTO:-0800
TZNAME:PST
DTSTART:20251102T090000
END:STANDARD
END:VTIMEZONE
BEGIN:VEVENT
DTSTART;TZID=America/Vancouver:20251024T110000
DTEND;TZID=America/Vancouver:20251024T150000
DTSTAMP:20260422T231959
CREATED:20251002T184329Z
LAST-MODIFIED:20251002T184956Z
UID:24846-1761303600-1761318000@www.kitsap-humane.org
SUMMARY:Subaru Loves Pets Adoption Event: October 24\, 2025
DESCRIPTION:Meet Your New Adventure Buddy!\n\n\nAdopt an Adventure Buddy during our Subaru Loves Pets Adoption Event at Peninsula Subaru! Subaru Loves Pets® is back again this October\, supporting Kitsap Humane Society with a special adoption event! Join us on October 24 from 11 am – 3 pm. Kitsap Humane Society will be at Peninsula Subaru with adoptable animals!\n\nWe hope to see you there!\nSubaru Loves Pets Adoption EventOct 24th\, 202511 a.m. to 3 p.m.Peninsula Subaru\, 3888 WA-16\, Bremerton\, WA 98312\n\n
URL:https://www.kitsap-humane.org/event/subaru-loves-pets-adoption-event-2025/
LOCATION:Peninsula Subaru\, 3888 W State Highway 16\, Bremerton\, Washington\, 98312
ATTACH;FMTTYPE=image/jpeg:https://www.kitsap-humane.org/wp-content/uploads/2022/09/WEB-FeatEvent-SubaruLovesPets.jpg
END:VEVENT
END:VCALENDAR