BEGIN:VCALENDAR
VERSION:2.0
PRODID:-//Kitsap Humane Society - ECPv5.0.3.1//NONSGML v1.0//EN
CALSCALE:GREGORIAN
METHOD:PUBLISH
X-WR-CALNAME:Kitsap Humane Society
X-ORIGINAL-URL:https://www.kitsap-humane.org
X-WR-CALDESC:Events for Kitsap Humane Society
BEGIN:VTIMEZONE
TZID:America/Vancouver
BEGIN:DAYLIGHT
TZOFFSETFROM:-0800
TZOFFSETTO:-0700
TZNAME:PDT
DTSTART:20240310T100000
END:DAYLIGHT
BEGIN:STANDARD
TZOFFSETFROM:-0700
TZOFFSETTO:-0800
TZNAME:PST
DTSTART:20241103T090000
END:STANDARD
END:VTIMEZONE
BEGIN:VEVENT
DTSTART;VALUE=DATE:20241014
DTEND;VALUE=DATE:20241101
DTSTAMP:20260423T183116
CREATED:20241007T211038Z
LAST-MODIFIED:20241007T213508Z
UID:23101-1728864000-1730419199@www.kitsap-humane.org
SUMMARY:2024 Howl-O-Ween Pet Photo Contest
DESCRIPTION:Spooky\, Scary\, or Silly…Show it Off During Kitsap Humane Society’s Howl-O-Ween Pet Photo Contest!\nFrom October 14-31\, you can submit a photo of your pet’s Halloween look to be voted on by the community. While they are all winners to us\, the photo with the most votes in each category wins a Kitsap Humane Society gift basket! Photo submissions are $10 per entry\, and you can enter as many photos as you’d like. Each vote is only $1\, and all proceeds will go towards caring for vulnerable animals in need at Kitsap Humane Society. Show off your spooky dogs\, frightening felines\, and creepy critters for a great cause this Halloween by entering Kitsap Humane Society’s Howl-O-Ween Pet Photo Contest! \nThis festive fundraiser raises funds for our lifesaving programs and services\, including animal sheltering and care\, veterinary services\, foster\, canine behavior training\, and so much more! \nThe contest opens on Oct. 14! Learn more here. \n
URL:https://www.kitsap-humane.org/event/howl-o-ween-pet-photo-contest-2/
CATEGORIES:Featured
ATTACH;FMTTYPE=image/jpeg:https://www.kitsap-humane.org/wp-content/uploads/2022/09/WEB-FeatEvent-Howl-O-Ween-Contest.jpg
END:VEVENT
BEGIN:VEVENT
DTSTART;VALUE=DATE:20241027
DTEND;VALUE=DATE:20241028
DTSTAMP:20260423T183116
CREATED:20241023T170302Z
LAST-MODIFIED:20241023T170445Z
UID:23176-1729987200-1730073599@www.kitsap-humane.org
SUMMARY:Sunday FUNday at Eleven Winery
DESCRIPTION:Mark your calendars! On October 27\, Eleven Winery on Bainbridge Island is generously donating 100% of tasting fees\, 100% of glass pours\, and 10% of wine sales ALL DAY to Kitsap Humane Society. Plus\, we’ll have live music AND adorable foster kittens on-site to tell you all about our foster program. Is there a better combination than live music\, kittens\, and wine? We don’t think so! \nWe hope to see you for Sunday FUNday at Eleven Winery on October 27! \nWHERE:  7671 NE Day Road\, Bainbridge Island\, WA 98110 \n
URL:https://www.kitsap-humane.org/event/sunday-funday-at-eleven-winery-3/
LOCATION:Eleven Winery\, 7671 NE Day Rd\, Bainbridge Island\, WA\, 98110\, United States
ATTACH;FMTTYPE=image/jpeg:https://www.kitsap-humane.org/wp-content/uploads/2024/10/FB-EventBanner-SundayFunday-scaled.jpg
GEO:47.678637;-122.547383
X-APPLE-STRUCTURED-LOCATION;VALUE=URI;X-ADDRESS=Eleven Winery 7671 NE Day Rd Bainbridge Island WA 98110 United States;X-APPLE-RADIUS=500;X-TITLE=7671 NE Day Rd:geo:-122.547383,47.678637
END:VEVENT
END:VCALENDAR