BEGIN:VCALENDAR
VERSION:2.0
PRODID:-//Kitsap Humane Society - ECPv5.0.3.1//NONSGML v1.0//EN
CALSCALE:GREGORIAN
METHOD:PUBLISH
X-WR-CALNAME:Kitsap Humane Society
X-ORIGINAL-URL:https://www.kitsap-humane.org
X-WR-CALDESC:Events for Kitsap Humane Society
BEGIN:VTIMEZONE
TZID:America/Vancouver
BEGIN:DAYLIGHT
TZOFFSETFROM:-0800
TZOFFSETTO:-0700
TZNAME:PDT
DTSTART:20240310T100000
END:DAYLIGHT
BEGIN:STANDARD
TZOFFSETFROM:-0700
TZOFFSETTO:-0800
TZNAME:PST
DTSTART:20241103T090000
END:STANDARD
END:VTIMEZONE
BEGIN:VEVENT
DTSTART;TZID=America/Vancouver:20240614T190000
DTEND;TZID=America/Vancouver:20240614T210000
DTSTAMP:20260424T050156
CREATED:20240613T175328Z
LAST-MODIFIED:20240613T175328Z
UID:22679-1718391600-1718398800@www.kitsap-humane.org
SUMMARY:Bingo at Tracyton Public House
DESCRIPTION:And Bingo was his name-O! Join your fellow KHS supporters for a fun night of Bingo at Tracyton Public House. For only $5 per card\, you’ll have the chance to win prizes\, help animals in need (proceeds go to KHS)\, and enjoy music from our fabulous PetsWalk DJ\, Big Dog! \n
URL:https://www.kitsap-humane.org/event/bingo-at-tracyton-public-house/
LOCATION:Tracyton Public House\, 403 Tracy Ave.\, Bremerton\, washington\, 98311
END:VEVENT
END:VCALENDAR