BEGIN:VCALENDAR
VERSION:2.0
PRODID:-//Kitsap Humane Society - ECPv5.0.3.1//NONSGML v1.0//EN
CALSCALE:GREGORIAN
METHOD:PUBLISH
X-WR-CALNAME:Kitsap Humane Society
X-ORIGINAL-URL:https://www.kitsap-humane.org
X-WR-CALDESC:Events for Kitsap Humane Society
BEGIN:VTIMEZONE
TZID:America/Vancouver
BEGIN:DAYLIGHT
TZOFFSETFROM:-0800
TZOFFSETTO:-0700
TZNAME:PDT
DTSTART:20230312T100000
END:DAYLIGHT
BEGIN:STANDARD
TZOFFSETFROM:-0700
TZOFFSETTO:-0800
TZNAME:PST
DTSTART:20231105T090000
END:STANDARD
END:VTIMEZONE
BEGIN:VEVENT
DTSTART;TZID=America/Vancouver:20230812T150000
DTEND;TZID=America/Vancouver:20230812T180000
DTSTAMP:20230820T203539
CREATED:20230804T191429Z
LAST-MODIFIED:20230808T203927Z
UID:21556-1691852400-1691863200@www.kitsap-humane.org
SUMMARY:Wine & Whiskers at Holy Water A Heavenly Lounge
DESCRIPTION:Join us for an exclusive Wine & Whiskers Pop-Up Event at Holy Water A Heavenly Lounge in Port Orchard! Raffle prizes\, apparel\, and of course\, wine! \nSaturday\, August 12\, 3-6 p.m. \n
URL:https://www.kitsap-humane.org/event/wine-whiskers-at-hard-hat-winery/
CATEGORIES:Featured
ATTACH;FMTTYPE=image/jpeg:https://www.kitsap-humane.org/wp-content/uploads/2023/08/WEB-FeatEvent-WineWhiskers-justca-2023t.jpg
END:VEVENT
END:VCALENDAR