BEGIN:VCALENDAR
VERSION:2.0
PRODID:-//Kitsap Humane Society - ECPv5.0.3.1//NONSGML v1.0//EN
CALSCALE:GREGORIAN
METHOD:PUBLISH
X-WR-CALNAME:Kitsap Humane Society
X-ORIGINAL-URL:https://www.kitsap-humane.org
X-WR-CALDESC:Events for Kitsap Humane Society
BEGIN:VTIMEZONE
TZID:America/Vancouver
BEGIN:DAYLIGHT
TZOFFSETFROM:-0800
TZOFFSETTO:-0700
TZNAME:PDT
DTSTART:20230312T100000
END:DAYLIGHT
BEGIN:STANDARD
TZOFFSETFROM:-0700
TZOFFSETTO:-0800
TZNAME:PST
DTSTART:20231105T090000
END:STANDARD
END:VTIMEZONE
BEGIN:VEVENT
DTSTART;TZID=America/Vancouver:20230804T153000
DTEND;TZID=America/Vancouver:20230804T183000
DTSTAMP:20230820T203522
CREATED:20230803T231911Z
LAST-MODIFIED:20230803T231911Z
UID:21543-1691163000-1691173800@www.kitsap-humane.org
SUMMARY:Wine & Whiskers at Eagle Harbor Wine
DESCRIPTION:Join us for an exclusive Wine & Whiskers Pop-Up Event at Eagle Harbor Wine on Bainbridge Island! Raffle prizes\, apparel\, and of course\, wine! \nFriday\, August 4\, 3:30-6:30 p.m. \n
URL:https://www.kitsap-humane.org/event/wine-whiskers-at-eagle-harbor-wine/
CATEGORIES:Featured
END:VEVENT
END:VCALENDAR