BEGIN:VCALENDAR
VERSION:2.0
PRODID:-//Kitsap Humane Society - ECPv5.0.3.1//NONSGML v1.0//EN
CALSCALE:GREGORIAN
METHOD:PUBLISH
X-WR-CALNAME:Kitsap Humane Society
X-ORIGINAL-URL:https://www.kitsap-humane.org
X-WR-CALDESC:Events for Kitsap Humane Society
BEGIN:VTIMEZONE
TZID:America/Vancouver
BEGIN:DAYLIGHT
TZOFFSETFROM:-0800
TZOFFSETTO:-0700
TZNAME:PDT
DTSTART:20230312T100000
END:DAYLIGHT
BEGIN:STANDARD
TZOFFSETFROM:-0700
TZOFFSETTO:-0800
TZNAME:PST
DTSTART:20231105T090000
END:STANDARD
END:VTIMEZONE
BEGIN:VEVENT
DTSTART;VALUE=DATE:20230801
DTEND;VALUE=DATE:20231001
DTSTAMP:20230820T191559
CREATED:20221130T202514Z
LAST-MODIFIED:20230804T193921Z
UID:20267-1690848000-1696118399@www.kitsap-humane.org
SUMMARY:Wine & Whiskers 2023
DESCRIPTION:It’s back and bigger than ever! It’s Wine & Whiskers 2023\, with a dozen participating wineries and lots of toasts to be had! Register now for two months of wine tours\, courtesy of the Peninsula’s finest vintners and to benefit the Kitsap Humane Society!\n\n\nA big thank you to all of our participating wineries:\n  \nd’Vine Wines\nDetails Wine Bar\nEagle Harbor Wine Co.\nEleven Winery\nHard Hat Winery\nHoly Water A Heavenly Lounge\nHoodsport Winery\nMarrowstone Vineyards\nSinclairs Twenty-Two\nSpin Cider\nState 42 Wines\nWind Rose Cellars\n  \n\nDon’t forget to visit us at our wine pop-up events this year to kick off the tour and enter to win raffle prizes!\nState 42 Wines\nDowntown Poulsbo\nWednesday\, August 2\, 5-8 p.m.\n\nEagle Harbor Wine\nBainbridge Island\nFriday\, August 4\, 3:30-6:30 p.m.\n\nDetails Wine Bar\nPoulsbo\nSaturday\, August 5\, 1-4 p.m.\n\nEleven Winery\nBainbridge Island\nSunday\, August 6\, 2-5 p.m.\n  \nHard Hat Winery\nPoulsbo\nFriday\, August 11\, 5-8 p.m.\n  \nHoly Water A Heavenly Lounge\nPort Orchard\nSaturday\, August 12\, 3-5 p.m.\n  \nSinclairs Twenty-Two\nPort Orchard\nSaturday\, August 19\, 1-4 p.m.\n  \nd’Vine Bistro\nKingston\nSunday\, August 20\, 11-2 p.m.\n\nAnd don’t miss out on this year’s Wine & Whiskers merchandise!\n \nQuestions? Just email KHS Events & Outreach Manager\,\nJessi Reynolds\, at jreynolds@kitsap-humane.org.\n\n
URL:https://www.kitsap-humane.org/event/wine-and-whiskers-2023/
LOCATION:WA
CATEGORIES:Featured
ATTACH;FMTTYPE=image/jpeg:https://www.kitsap-humane.org/wp-content/uploads/2022/11/WEB-FeatEvent-WineWhiskers-2023.jpg
END:VEVENT
END:VCALENDAR