BEGIN:VCALENDAR
VERSION:2.0
PRODID:-//Kitsap Humane Society - ECPv5.0.3.1//NONSGML v1.0//EN
CALSCALE:GREGORIAN
METHOD:PUBLISH
X-WR-CALNAME:Kitsap Humane Society
X-ORIGINAL-URL:https://www.kitsap-humane.org
X-WR-CALDESC:Events for Kitsap Humane Society
BEGIN:VTIMEZONE
TZID:America/Vancouver
BEGIN:DAYLIGHT
TZOFFSETFROM:-0800
TZOFFSETTO:-0700
TZNAME:PDT
DTSTART:20170312T100000
END:DAYLIGHT
BEGIN:STANDARD
TZOFFSETFROM:-0700
TZOFFSETTO:-0800
TZNAME:PST
DTSTART:20171105T090000
END:STANDARD
END:VTIMEZONE
BEGIN:VEVENT
DTSTART;TZID=America/Vancouver:20171216T120000
DTEND;TZID=America/Vancouver:20171216T183000
DTSTAMP:20260420T185710
CREATED:20171129T233817Z
LAST-MODIFIED:20171129T233817Z
UID:8019-1513425600-1513449000@www.kitsap-humane.org
SUMMARY:Whisker Wonderland Adoption Event!
DESCRIPTION:On Saturday December 16\, Kitsap Humane Society will be having a Whisker Wonderland Adoption Event! All adoption fees will be discounted and we will feature extended adoption hours! It’s the perfect time to adopt a new pet\, just in time for the holidays! \n  \nAll adoption fees will be $25 off! \n  \nAdoption hours will be from 12:00 p.m. to 6:30 p.m.  Please note\, new adoption applications must be submitted by 5:30 p.m. \n  \nKitsap Humane Society is located at: \n9167 Dickey Rd. NW \nSilverdale\, WA 98383 \n  \nTo view our available pets and learn about our adoption process\, please visit our adoption page. \n
URL:https://www.kitsap-humane.org/event/whisker-wonderland-adoption-event-2/
LOCATION:Kitsap Humane Society\, 9167 Dickey Road NW\, Silverdale\, WA\, 98383\, United States
GEO:47.6456394;-122.7196301
X-APPLE-STRUCTURED-LOCATION;VALUE=URI;X-ADDRESS=Kitsap Humane Society 9167 Dickey Road NW Silverdale WA 98383 United States;X-APPLE-RADIUS=500;X-TITLE=9167 Dickey Road NW:geo:-122.7196301,47.6456394
END:VEVENT
END:VCALENDAR