BEGIN:VCALENDAR
VERSION:2.0
PRODID:-//Kitsap Humane Society - ECPv5.0.3.1//NONSGML v1.0//EN
CALSCALE:GREGORIAN
METHOD:PUBLISH
X-WR-CALNAME:Kitsap Humane Society
X-ORIGINAL-URL:https://www.kitsap-humane.org
X-WR-CALDESC:Events for Kitsap Humane Society
BEGIN:VTIMEZONE
TZID:America/Vancouver
BEGIN:DAYLIGHT
TZOFFSETFROM:-0800
TZOFFSETTO:-0700
TZNAME:PDT
DTSTART:20210314T100000
END:DAYLIGHT
BEGIN:STANDARD
TZOFFSETFROM:-0700
TZOFFSETTO:-0800
TZNAME:PST
DTSTART:20211107T090000
END:STANDARD
END:VTIMEZONE
BEGIN:VEVENT
DTSTART;TZID=America/Vancouver:20210728T113000
DTEND;TZID=America/Vancouver:20210728T130000
DTSTAMP:20230820T231941
CREATED:20210705T175723Z
LAST-MODIFIED:20210705T180545Z
UID:17860-1627471800-1627477200@www.kitsap-humane.org
SUMMARY:Join Us at the Silverdale Chamber of Commerce July Luncheon & Carnival
DESCRIPTION:Come hang out with Kitsap Humane Society at the Silverdale Chamber of Commerce July Membership Luncheon & Carnival on Wednesday\, July 28! There will be fun games\, entertainment\, lunch\, a live auction of experiences\, as well as a silent auction! \nWHEN: Wednesday\, July 28 – 11:30 am – 1:00 pm\nWHERE:  McCloud’s Grill House\n4111 Wheaton Way\, Bremerton\, WA 98310 \nRegister here! You do not need to be a member to attend! \n
URL:https://www.kitsap-humane.org/event/silverdale-chamber-of-commerce-july-luncheon/
LOCATION:McCloud’s Grill House\, 4111 Wheaton Way\, Bremerton\, WA\, 98310\, United States
END:VEVENT
END:VCALENDAR