BEGIN:VCALENDAR
VERSION:2.0
PRODID:-//Kitsap Humane Society - ECPv5.0.3.1//NONSGML v1.0//EN
CALSCALE:GREGORIAN
METHOD:PUBLISH
X-WR-CALNAME:Kitsap Humane Society
X-ORIGINAL-URL:https://www.kitsap-humane.org
X-WR-CALDESC:Events for Kitsap Humane Society
BEGIN:VTIMEZONE
TZID:America/Vancouver
BEGIN:DAYLIGHT
TZOFFSETFROM:-0800
TZOFFSETTO:-0700
TZNAME:PDT
DTSTART:20220313T100000
END:DAYLIGHT
BEGIN:STANDARD
TZOFFSETFROM:-0700
TZOFFSETTO:-0800
TZNAME:PST
DTSTART:20221106T090000
END:STANDARD
END:VTIMEZONE
BEGIN:VEVENT
DTSTART;TZID=America/Vancouver:20220901T170000
DTEND;TZID=America/Vancouver:20220901T200000
DTSTAMP:20230820T232428
CREATED:20220818T204553Z
LAST-MODIFIED:20220902T170408Z
UID:19834-1662051600-1662062400@www.kitsap-humane.org
SUMMARY:Silver Linings Series Beer Launch Party
DESCRIPTION:We’re honored to partner with Silver City Brewery as part of their Silver Lining Series for an upcoming\, top-secret brew! Since 2021\, Silver City Brewery has been brewing limited edition beers called the “Silver Linings Series.” These limited-edition Taproom and Restaurant releases are specifically crafted to bring awareness and generate funds for charitable organizations in our community\, supporting causes the Silver City team is passionate about. \nWe invite you to join us next Thursday\, September 1 from 5-8 pm at their Taproom location on Katy Penman Ave. in Bremerton for the release of this limited-edition beer benefiting KHS during our official launch party! Silver City will host a food truck\, and team KHS will be on-site with raffle prizes and limited-edition Silver City & KHS merchandise to win! Be on the lookout for the release of the name\, label\, and type of beer in the next week on social media! \nWHEN: Thursday\, September 1 | 5-8 pm\nWHERE: Silver City Taproom\, 206 Katy Penman Ave. Bremerton\, WA 98312 \n
URL:https://www.kitsap-humane.org/event/silver-linings-launch-party/
LOCATION:Silver City Taproom\, 206 Katy Penman Ave.\, Bremerton\, WA\, 98312\, United States
CATEGORIES:Featured
END:VEVENT
END:VCALENDAR