BEGIN:VCALENDAR
VERSION:2.0
PRODID:-//Kitsap Humane Society - ECPv5.0.3.1//NONSGML v1.0//EN
CALSCALE:GREGORIAN
METHOD:PUBLISH
X-WR-CALNAME:Kitsap Humane Society
X-ORIGINAL-URL:https://www.kitsap-humane.org
X-WR-CALDESC:Events for Kitsap Humane Society
BEGIN:VTIMEZONE
TZID:America/Vancouver
BEGIN:DAYLIGHT
TZOFFSETFROM:-0800
TZOFFSETTO:-0700
TZNAME:PDT
DTSTART:20190310T100000
END:DAYLIGHT
BEGIN:STANDARD
TZOFFSETFROM:-0700
TZOFFSETTO:-0800
TZNAME:PST
DTSTART:20191103T090000
END:STANDARD
END:VTIMEZONE
BEGIN:VEVENT
DTSTART;TZID=America/Vancouver:20191124T110000
DTEND;TZID=America/Vancouver:20191124T150000
DTSTAMP:20230820T231936
CREATED:20190614T220335Z
LAST-MODIFIED:20191018T215938Z
UID:12513-1574593200-1574607600@www.kitsap-humane.org
SUMMARY:Santa Paws
DESCRIPTION:It’s that time of year! Santa Paws is coming to town! \nKHS’ Annual Santa Paws Pet and Family portraits is just around the corner! Each event costs $20 per family and the pictures will be digital file only. (Our photographers will be sending participants from each event a link to view and download their photos.) \nAll proceeds benefit KHS. All dogs must be on a leash and all other animals safely contained. Animals aren’t required! We have the best Santa in town so bring the kiddos and the family. Pictures are first come first served. \nSanta Paws:\nSunday\, Nov. 24\, 11 a.m.-3 p.m.\nOlmsted Tree Farms\, 17526 Clear Creek Rd NW\, Poulsbo\, WA 98370\nPhotographer: Cates Photography \nA huge THANK YOU to KHS long time volunteer\, Jeff Berger\, who is volunteering his time once again to be Old St. Nick for Santa Paws. Any questions about Santa Paws? Contact Gina Lehner at glehner@kitsap-humane.org \nSanta will also be available at Kitsap Humane Society Sunday Dec. 8\, and Z-Bones on Bainbridge Island Saturday\, Dec. 14. If this date doesn’t work for you! \n
URL:https://www.kitsap-humane.org/event/santa-paws/
LOCATION:Olmsted Tree Farms\, 17526 Clear Creek Rd NW\, Poulsbo\, WA\, 98370\, United States
CATEGORIES:Featured
ATTACH;FMTTYPE=image/jpeg:https://www.kitsap-humane.org/wp-content/uploads/2018/11/WEB-FeatEvent-SantaPaws.jpg
END:VEVENT
END:VCALENDAR