BEGIN:VCALENDAR
VERSION:2.0
PRODID:-//Kitsap Humane Society - ECPv5.0.3.1//NONSGML v1.0//EN
CALSCALE:GREGORIAN
METHOD:PUBLISH
X-WR-CALNAME:Kitsap Humane Society
X-ORIGINAL-URL:https://www.kitsap-humane.org
X-WR-CALDESC:Events for Kitsap Humane Society
BEGIN:VTIMEZONE
TZID:America/Vancouver
BEGIN:DAYLIGHT
TZOFFSETFROM:-0800
TZOFFSETTO:-0700
TZNAME:PDT
DTSTART:20220313T100000
END:DAYLIGHT
BEGIN:STANDARD
TZOFFSETFROM:-0700
TZOFFSETTO:-0800
TZNAME:PST
DTSTART:20221106T090000
END:STANDARD
END:VTIMEZONE
BEGIN:VEVENT
DTSTART;TZID=America/Vancouver:20221127T110000
DTEND;TZID=America/Vancouver:20221127T150000
DTSTAMP:20230820T232404
CREATED:20221026T171036Z
LAST-MODIFIED:20221126T001019Z
UID:20089-1669546800-1669561200@www.kitsap-humane.org
SUMMARY:Santa Paws at Bay Hay & Feed
DESCRIPTION:It’s the most wonderful time of the year — Santa Paws is coming to town! \nKitsap Humane Society’s Annual Santa Paws pet and family portraits are back! This festive event costs $20 per family and includes one family photo with Santa that will be emailed to participants digitally after the event. \nAll dogs must be on a leash and all other animals safely contained. Animals aren’t required! We have the best Santa in town so bring the kiddos and the family. Pictures are first come first served. All proceeds benefit animals in need at KHS! \nJoin us for one (or all!) of our holly jolly Santa Paws events:\nSanta Paws at Olmsted Tree Farms (17526 Clear Creek Road NW\, Poulsbo\, WA 98370): Sunday\, Nov. 20 from 11 am – 3 pm\nSanta Paws at Bay Hay & Feed (10355 NE Valley Rd\, Bainbridge Island\, WA 98110): Sunday\, Nov. 27 from 11 am – 3 pm\nSanta Paws at West Hills Kia (515 W Hills Blvd\, Bremerton\, WA 98312): Sunday\, Dec. 11 from 11 am – 3 pm \nA huge THANK YOU to KHS longtime volunteer\, Jeff Berger\, who is volunteering his time once again to be Old St. Nick for Santa Paws. Plus\, our fabulous photographer Mary Eklund of Four Foot Photography. \nQuestions about Santa Paws? Contact Events Manager\, Jessi Reynolds\, at jreynolds@kitsap-humane.org. \n
URL:https://www.kitsap-humane.org/event/santa-paws-bay-hay-feed-2022/
LOCATION:Bay Hay & Feed\, 10355 NE Valley Rd\, Bainbridge Island\, WA\, 98110\, United States
CATEGORIES:Featured
ATTACH;FMTTYPE=image/jpeg:https://www.kitsap-humane.org/wp-content/uploads/2018/11/WEB-FeatEvent-SantaPaws.jpg
GEO:47.6645533;-122.5106436
X-APPLE-STRUCTURED-LOCATION;VALUE=URI;X-ADDRESS=Bay Hay & Feed 10355 NE Valley Rd Bainbridge Island WA 98110 United States;X-APPLE-RADIUS=500;X-TITLE=10355 NE Valley Rd:geo:-122.5106436,47.6645533
END:VEVENT
END:VCALENDAR