BEGIN:VCALENDAR
VERSION:2.0
PRODID:-//Kitsap Humane Society - ECPv5.0.3.1//NONSGML v1.0//EN
CALSCALE:GREGORIAN
METHOD:PUBLISH
X-WR-CALNAME:Kitsap Humane Society
X-ORIGINAL-URL:https://www.kitsap-humane.org
X-WR-CALDESC:Events for Kitsap Humane Society
BEGIN:VTIMEZONE
TZID:America/Vancouver
BEGIN:DAYLIGHT
TZOFFSETFROM:-0800
TZOFFSETTO:-0700
TZNAME:PDT
DTSTART:20180311T100000
END:DAYLIGHT
BEGIN:STANDARD
TZOFFSETFROM:-0700
TZOFFSETTO:-0800
TZNAME:PST
DTSTART:20181104T090000
END:STANDARD
END:VTIMEZONE
BEGIN:VEVENT
DTSTART;TZID=America/Vancouver:20181201T110000
DTEND;TZID=America/Vancouver:20181201T150000
DTSTAMP:20230820T232351
CREATED:20181105T205706Z
LAST-MODIFIED:20181128T172440Z
UID:10418-1543662000-1543676400@www.kitsap-humane.org
SUMMARY:Santa Paws at Bay\, Hay\, and Feed!
DESCRIPTION:It’s that time of year! Santa Paws is coming to town! \nDecember 1 and 2\, he and his merry helpers will be posing with you and your crew for photos at Bay Hay & Feed on Bainbridge Island. \nBring your whole family\, furry and human alike\, for this wonderful holiday event! \n$20 per digital portrait\nAll proceeds go to benefit KHS. All dogs must be on a leash. Pictures are first come first served. \nSanta Paws:\nSaturday & Sunday\, December 1& 2 from 11a.m. to 3p.m.\nBay Hay & Feed\, 10355 NE Valley Rd\, Bainbridge Island\, WA 98110 \nPhotographer: Fiona Margo Photography \nA huge THANK YOU to KHS long time volunteer\, Jeff Berger\, who is volunteering his time once again to be Old St. Nick for Santa Paws once again. Any questions about Santa Paws? Contact Rachel Rindo at rrindo@kitsap-humane.org \nIf this date doesn’t work for you\, check out our other Santa Paws Events on our Facebook page! \n
URL:https://www.kitsap-humane.org/event/santa-paws-at-bay-hay-and-feed-2/2018-12-01/
LOCATION:Bay Hay & Feed\, 10355 NE Valley Rd\, Bainbridge Island\, WA\, 98110\, United States
CATEGORIES:Featured
ATTACH;FMTTYPE=image/jpeg:https://www.kitsap-humane.org/wp-content/uploads/2018/11/WEB-FeatEvent-SantaPaws.jpg
GEO:47.6645533;-122.5106436
X-APPLE-STRUCTURED-LOCATION;VALUE=URI;X-ADDRESS=Bay Hay & Feed 10355 NE Valley Rd Bainbridge Island WA 98110 United States;X-APPLE-RADIUS=500;X-TITLE=10355 NE Valley Rd:geo:-122.5106436,47.6645533
END:VEVENT
END:VCALENDAR