BEGIN:VCALENDAR
VERSION:2.0
PRODID:-//Kitsap Humane Society - ECPv5.0.3.1//NONSGML v1.0//EN
CALSCALE:GREGORIAN
METHOD:PUBLISH
X-WR-CALNAME:Kitsap Humane Society
X-ORIGINAL-URL:https://www.kitsap-humane.org
X-WR-CALDESC:Events for Kitsap Humane Society
BEGIN:VTIMEZONE
TZID:America/Vancouver
BEGIN:DAYLIGHT
TZOFFSETFROM:-0800
TZOFFSETTO:-0700
TZNAME:PDT
DTSTART:20190310T100000
END:DAYLIGHT
BEGIN:STANDARD
TZOFFSETFROM:-0700
TZOFFSETTO:-0800
TZNAME:PST
DTSTART:20191103T090000
END:STANDARD
END:VTIMEZONE
BEGIN:VEVENT
DTSTART;TZID=America/Vancouver:20191214T110000
DTEND;TZID=America/Vancouver:20191214T150000
DTSTAMP:20230820T232817
CREATED:20190614T220526Z
LAST-MODIFIED:20191018T215314Z
UID:12517-1576321200-1576335600@www.kitsap-humane.org
SUMMARY:Santa Paws
DESCRIPTION:It’s that time of year! Santa Paws is coming to town! \nKHS’ Annual Santa Paws Pet and Family portraits is just around the corner! Each event costs $20 per family and the pictures will be digital file only. (Our photographers will be sending participants from each event a link to view and download their photos.) \nAll proceeds benefit KHS. All dogs must be on a leash and all other animals safely contained. Animals aren’t required! We have the best Santa in town so bring the kiddos and the family. Pictures are first come first served. \nSanta Paws:\nSaturday\, Dec. 14\, 11 a.m.-3 p.m.\nZ-Bones\, 146 Winslow Way W\, Bainbridge Island\, WA 98110\nPhotographer: Four Foot Photography \nA huge THANK YOU to KHS long time volunteer\, Jeff Berger\, who is volunteering his time once again to be Old St. Nick for Santa Paws. Any questions about Santa Paws? Contact Gina Lehner at glehner@kitsap-humane.org \n
URL:https://www.kitsap-humane.org/event/santa-paws-3/
LOCATION:Z Bones\, 146 Winslow Way W.\, Bainbridge Island\, WA\, 98110\, United States
ATTACH;FMTTYPE=image/jpeg:https://www.kitsap-humane.org/wp-content/uploads/2018/11/WEB-FeatEvent-SantaPaws.jpg
GEO:47.6254406;-122.5221562
X-APPLE-STRUCTURED-LOCATION;VALUE=URI;X-ADDRESS=Z Bones 146 Winslow Way W. Bainbridge Island WA 98110 United States;X-APPLE-RADIUS=500;X-TITLE=146 Winslow Way W.:geo:-122.5221562,47.6254406
END:VEVENT
END:VCALENDAR