BEGIN:VCALENDAR
VERSION:2.0
PRODID:-//Kitsap Humane Society - ECPv5.0.3.1//NONSGML v1.0//EN
CALSCALE:GREGORIAN
METHOD:PUBLISH
X-WR-CALNAME:Kitsap Humane Society
X-ORIGINAL-URL:https://www.kitsap-humane.org
X-WR-CALDESC:Events for Kitsap Humane Society
BEGIN:VTIMEZONE
TZID:America/Vancouver
BEGIN:DAYLIGHT
TZOFFSETFROM:-0800
TZOFFSETTO:-0700
TZNAME:PDT
DTSTART:20190310T100000
END:DAYLIGHT
BEGIN:STANDARD
TZOFFSETFROM:-0700
TZOFFSETTO:-0800
TZNAME:PST
DTSTART:20191103T090000
END:STANDARD
END:VTIMEZONE
BEGIN:VEVENT
DTSTART;TZID=America/Vancouver:20190209T120000
DTEND;TZID=America/Vancouver:20190209T173000
DTSTAMP:20260419T185827
CREATED:20190118T211840Z
LAST-MODIFIED:20190118T211840Z
UID:11157-1549713600-1549733400@www.kitsap-humane.org
SUMMARY:Ready for Love Adoption Event\, Sponsored by Earth Animal
DESCRIPTION:Are you Ready for Love?! Find your new furr-ever soulmate just in time for Valentine’s day at our Ready for Love Adoption Event\, sponsored by Earth Animal! \nOn Saturday February 9th and Sunday February 10th\, Kitsap Humane Society will be featuring $14 adoption fees for our Top 14 pets! Our Top 14 will be a selection of both cats and dogs who have yet to find forever homes\, who have become staff and volunteer favorites during their time with us. \nThroughout the week leading up to the adoption event\, we will be featuring our Top 14 pets on our social media pages\, so keep an eye out and fall in love with a new best friend! New pets will be added to the list as others get adopted. \nKitsap Humane Society is located at 9167 Dickey Rd NW Silverdale\, WA 98383.  Adoption hours are 12:00 p.m. to 5:30 p.m. (new adoption applications must be submitted by 4:30 p.m.) \n  \n
URL:https://www.kitsap-humane.org/event/ready-for-love-adoption-event-sponsored-by-earth-animal/
END:VEVENT
END:VCALENDAR