BEGIN:VCALENDAR
VERSION:2.0
PRODID:-//Kitsap Humane Society - ECPv5.0.3.1//NONSGML v1.0//EN
CALSCALE:GREGORIAN
METHOD:PUBLISH
X-WR-CALNAME:Kitsap Humane Society
X-ORIGINAL-URL:https://www.kitsap-humane.org
X-WR-CALDESC:Events for Kitsap Humane Society
BEGIN:VTIMEZONE
TZID:America/Vancouver
BEGIN:DAYLIGHT
TZOFFSETFROM:-0800
TZOFFSETTO:-0700
TZNAME:PDT
DTSTART:20150308T100000
END:DAYLIGHT
BEGIN:STANDARD
TZOFFSETFROM:-0700
TZOFFSETTO:-0800
TZNAME:PST
DTSTART:20151101T090000
END:STANDARD
END:VTIMEZONE
BEGIN:VEVENT
DTSTART;TZID=America/Vancouver:20150816T150000
DTEND;TZID=America/Vancouver:20150816T200000
DTSTAMP:20230820T232338
CREATED:20150407T220834Z
LAST-MODIFIED:20150819T230330Z
UID:2178-1439737200-1439755200@www.kitsap-humane.org
SUMMARY:Raise the WOOF
DESCRIPTION:\nYour Support of Raise the Woof Will Help KHS Save More Animals’ Lives\n Friends and families gathered Sunday at Bainbridge Island’s \nRustica Island Farm to enjoy the beautiful afternoon with \ngreat wine\, beer and food. We were treated to the fabulous \nmusic of St. Paul de Vence and Mycle Wastman. \n\nYOU Raised the Woof and generated over $14\,000 for the homeless animals of Kitsap Humane Society!!\nOn behalf of all our furry friends at KHS\, we can’t thank you enough \nfor your compassion\, commitment and generosity. \n \n  \nMany Thanks to our Sponsors! \nPresenting Sponsor \n \n \n \n  \nGold Paw Sponsor \n \n  \nSilver Paw Sponsor \n \n \n \n  \nBronze Paw Sponsor \nAnimal Magnetizm \nBlinx \nB.I. Barkery \nCrystal Photography \nDay Road Animal Hospital  \nDee Fitzgerald State Farm Ins Agcy Inc. Port Orchard \nLSD Photography \nPaws and Fins – Bainbridge \nSoup’r Burger \nVCA Central Kitsap Animal Hospital \n  \nPet Rock Star VIP Table Hosts \n \n  \n
URL:https://www.kitsap-humane.org/event/raise-the-woof/
LOCATION:Rustica Island Farm & Market\, 12600 Miller Road\, Bainnridge Island\, WA\, United States
CATEGORIES:Featured
ATTACH;FMTTYPE=image/jpeg:https://www.kitsap-humane.org/wp-content/uploads/2015/04/51b5c9_72a1a19aa134423abc42abfea02a78f7_jpg_srb_p_966_400_75_22_0_50_1_20_0.jpg
GEO:47.6771109;-122.541018
X-APPLE-STRUCTURED-LOCATION;VALUE=URI;X-ADDRESS=Rustica Island Farm & Market 12600 Miller Road Bainnridge Island WA United States;X-APPLE-RADIUS=500;X-TITLE=12600 Miller Road:geo:-122.541018,47.6771109
END:VEVENT
END:VCALENDAR