BEGIN:VCALENDAR
VERSION:2.0
PRODID:-//Kitsap Humane Society - ECPv5.0.3.1//NONSGML v1.0//EN
CALSCALE:GREGORIAN
METHOD:PUBLISH
X-WR-CALNAME:Kitsap Humane Society
X-ORIGINAL-URL:https://www.kitsap-humane.org
X-WR-CALDESC:Events for Kitsap Humane Society
BEGIN:VTIMEZONE
TZID:America/Vancouver
BEGIN:DAYLIGHT
TZOFFSETFROM:-0800
TZOFFSETTO:-0700
TZNAME:PDT
DTSTART:20160313T100000
END:DAYLIGHT
BEGIN:STANDARD
TZOFFSETFROM:-0700
TZOFFSETTO:-0800
TZNAME:PST
DTSTART:20161106T090000
END:STANDARD
END:VTIMEZONE
BEGIN:VEVENT
DTSTART;TZID=America/Vancouver:20160604T090000
DTEND;TZID=America/Vancouver:20160604T150000
DTSTAMP:20230820T232427
CREATED:20160531T172422Z
LAST-MODIFIED:20160531T172422Z
UID:4818-1465030800-1465052400@www.kitsap-humane.org
SUMMARY:Port Orchard Farmer's Market
DESCRIPTION:Come visit Kitsap Humane Society at our info booth during the Port Orchard Farmer’s Market!  We would love to see you.  Say hello as you shop for fresh\, local produce and products. \n
URL:https://www.kitsap-humane.org/event/port-orchard-farmers-market/
LOCATION:Port Orchard Waterfront Boardwalk\, 901 Bay St\, Port Orchard\, WA\, 98366\, United States
GEO:47.5419594;-122.6344765
X-APPLE-STRUCTURED-LOCATION;VALUE=URI;X-ADDRESS=Port Orchard Waterfront Boardwalk 901 Bay St Port Orchard WA 98366 United States;X-APPLE-RADIUS=500;X-TITLE=901 Bay St:geo:-122.6344765,47.5419594
END:VEVENT
END:VCALENDAR