BEGIN:VCALENDAR
VERSION:2.0
PRODID:-//Kitsap Humane Society - ECPv5.0.3.1//NONSGML v1.0//EN
CALSCALE:GREGORIAN
METHOD:PUBLISH
X-WR-CALNAME:Kitsap Humane Society
X-ORIGINAL-URL:https://www.kitsap-humane.org
X-WR-CALDESC:Events for Kitsap Humane Society
BEGIN:VTIMEZONE
TZID:America/Vancouver
BEGIN:DAYLIGHT
TZOFFSETFROM:-0800
TZOFFSETTO:-0700
TZNAME:PDT
DTSTART:20200308T100000
END:DAYLIGHT
BEGIN:STANDARD
TZOFFSETFROM:-0700
TZOFFSETTO:-0800
TZNAME:PST
DTSTART:20201101T090000
END:STANDARD
END:VTIMEZONE
BEGIN:VEVENT
DTSTART;TZID=America/Vancouver:20200418T140000
DTEND;TZID=America/Vancouver:20200418T200000
DTSTAMP:20260420T171721
CREATED:20200210T230839Z
LAST-MODIFIED:20200330T232728Z
UID:14814-1587218400-1587240000@www.kitsap-humane.org
SUMMARY:CANCELED Pints for Pets Pub Crawl
DESCRIPTION:Due to COVID-19\, this event has been canceled. We hope to be able to hold this event on a later date\, so stay tuned for updates! \nGather your crew and join us for an extra special day of good brews for a good cause! Tickets available here:\nhttps://secure.qgiv.com/for/pucra202/event/810839/ \nBorn from our much-loved monthly Pints for Pets series\, the Kitsap Humane Society Pup Crawl is a half-day extravaganza showcasing some of Bremerton’s best bars and breweries. The free-style downtown crawl runs from 2-6 p.m. and you are welcome to start and end at the location of your choosing. Ending the night at Hale’s Barrelhouse\, the downtown Bremerton pub locations include: Ashley’s Pub\, Bremerton Bar and Grill\, Dog Days Brewing\, Horse and Cow Pub and Grill\, and Shenanigans Pub and Grill. \nJust like our Pints for Pets\, every pint sold supports our shelter pets. Crawlers who successfully grab a pint at 4 out of 5 partner locations will receive a commemorative pint glass! \nCelebrate a successful crawl by joining us at our after party from 6-8 p.m. hosted by Hale’s Barrelhouse. We’ll have a fabulous raffle drawing\, live music\, a food truck\, and dare we say\, even more great brews! Come together to celebrate and raise a toast to the shelter animals that your participation has helped support. \nDrink responsibility and please have transportation arranged to and from this event\, as well as from downtown Bremerton to the Hale’s Barrelhouse after party. \n
URL:https://www.kitsap-humane.org/event/pints-for-pets-pub-crawl/
LOCATION:Downtown Bremerton\, Bremerton\, WA\, 98337\, United States
ATTACH;FMTTYPE=image/jpeg:https://www.kitsap-humane.org/wp-content/uploads/2020/02/Web-FeatEvent-pup-crawl.jpg
GEO:47.5685263;-122.6397033
END:VEVENT
END:VCALENDAR