BEGIN:VCALENDAR
VERSION:2.0
PRODID:-//Kitsap Humane Society - ECPv5.0.3.1//NONSGML v1.0//EN
CALSCALE:GREGORIAN
METHOD:PUBLISH
X-WR-CALNAME:Kitsap Humane Society
X-ORIGINAL-URL:https://www.kitsap-humane.org
X-WR-CALDESC:Events for Kitsap Humane Society
BEGIN:VTIMEZONE
TZID:America/Vancouver
BEGIN:DAYLIGHT
TZOFFSETFROM:-0800
TZOFFSETTO:-0700
TZNAME:PDT
DTSTART:20220313T100000
END:DAYLIGHT
BEGIN:STANDARD
TZOFFSETFROM:-0700
TZOFFSETTO:-0800
TZNAME:PST
DTSTART:20221106T090000
END:STANDARD
END:VTIMEZONE
BEGIN:VEVENT
DTSTART;TZID=America/Vancouver:20220323T170000
DTEND;TZID=America/Vancouver:20220323T190000
DTSTAMP:20260420T171639
CREATED:20220216T002057Z
LAST-MODIFIED:20220317T221605Z
UID:18979-1648054800-1648062000@www.kitsap-humane.org
SUMMARY:Pints for Pets at Breaking Waves Brewing
DESCRIPTION:Pints for Pets is back in Silverdale at Breaking Waves Brewing!\nCome have a brew with your favorite canine crew! Join us at Breaking Waves Brewing for the return of Pints for Pets on Wednesday\, March 23. \nJoin us from 5-7 pm for a fabulous evening of sipping brews\, live music by Joey James Dean\, an exciting raffle (including a gift certificate for $100 to ​Breaking Waves Brewing)\, and more! 15% of all beer sales purchased during the event will be donated to Kitsap Humane Society. PLUS\, Breaking Waves Brewing will match what we raise in beer sales \nWHEN: Wednesday\, March 23 | 5 – 7 pm\nWHERE: Breaking Waves Brewing\, 3388 NW Byron St #100\, Silverdale\, WA 98383 \n
URL:https://www.kitsap-humane.org/event/pints-for-pets-breaking-waves/
LOCATION:Breaking Waves Brewing\, 3388 NW Byron St #100\, Silverdale\, WA\, 98383\, United States
CATEGORIES:Featured
ATTACH;FMTTYPE=image/jpeg:https://www.kitsap-humane.org/wp-content/uploads/2021/04/WEB-FeatEvent-P4P.jpg
END:VEVENT
END:VCALENDAR