BEGIN:VCALENDAR
VERSION:2.0
PRODID:-//Kitsap Humane Society - ECPv5.0.3.1//NONSGML v1.0//EN
CALSCALE:GREGORIAN
METHOD:PUBLISH
X-WR-CALNAME:Kitsap Humane Society
X-ORIGINAL-URL:https://www.kitsap-humane.org
X-WR-CALDESC:Events for Kitsap Humane Society
BEGIN:VTIMEZONE
TZID:America/Vancouver
BEGIN:DAYLIGHT
TZOFFSETFROM:-0800
TZOFFSETTO:-0700
TZNAME:PDT
DTSTART:20200308T100000
END:DAYLIGHT
BEGIN:STANDARD
TZOFFSETFROM:-0700
TZOFFSETTO:-0800
TZNAME:PST
DTSTART:20201101T090000
END:STANDARD
END:VTIMEZONE
BEGIN:VEVENT
DTSTART;TZID=America/Vancouver:20200223T180000
DTEND;TZID=America/Vancouver:20200223T203000
DTSTAMP:20260420T162950
CREATED:20200114T214131Z
LAST-MODIFIED:20200218T003353Z
UID:14348-1582480800-1582489800@www.kitsap-humane.org
SUMMARY:Pints for Pets BINGO Night!
DESCRIPTION:Are you feeling lucky?!\nCome enjoy a brew with your favorite canine crew for BINGO Night on Sunday\, February 23 from 6-8:30 p.m. at McCloud’s Grill House in Bremerton! All participants will receive 4 complimentary BINGO cards for several exciting games for prizes! The last game of the night will be a 50/50 game ($5 a card) for CASH with half of the proceeds being donated to KHS! We will also have two raffle drawings for prizes over $100 in value! Come out and enjoy great food\, great prizes\, and great drinks all in support of shelter pets at Kitsap Humane Society! \nTable space is first-come\, first-served. Reservations are highly encouraged. Please call (360) 373-3093 to reserve your table. \nAlthough the McCloud’s Grill House LOVES animals\, they aren’t allowed inside the restaurant. You may\, however\, bring your children\, as this is an all-ages event. \nWHEN: Sunday\, February 23 |  6:00 – 8:30 p.m. \nWHERE: McCloud’s Grill House\, 2901 Perry Ave Suite 13\, Bremerton\, WA 98310 \nPlease contact Amanda at agraham@kitsap-humane.org with any questions! \n
URL:https://www.kitsap-humane.org/event/pints-for-pets-bingo-night/
LOCATION:McCloud’s Grill House\, 4111 Wheaton Way\, Bremerton\, WA\, 98310\, United States
END:VEVENT
END:VCALENDAR