BEGIN:VCALENDAR
VERSION:2.0
PRODID:-//Kitsap Humane Society - ECPv5.0.3.1//NONSGML v1.0//EN
CALSCALE:GREGORIAN
METHOD:PUBLISH
X-WR-CALNAME:Kitsap Humane Society
X-ORIGINAL-URL:https://www.kitsap-humane.org
X-WR-CALDESC:Events for Kitsap Humane Society
BEGIN:VTIMEZONE
TZID:America/Vancouver
BEGIN:DAYLIGHT
TZOFFSETFROM:-0800
TZOFFSETTO:-0700
TZNAME:PDT
DTSTART:20170312T100000
END:DAYLIGHT
BEGIN:STANDARD
TZOFFSETFROM:-0700
TZOFFSETTO:-0800
TZNAME:PST
DTSTART:20171105T090000
END:STANDARD
END:VTIMEZONE
BEGIN:VEVENT
DTSTART;TZID=America/Vancouver:20170215T170000
DTEND;TZID=America/Vancouver:20170215T200000
DTSTAMP:20230820T232806
CREATED:20170111T222325Z
LAST-MODIFIED:20170118T191552Z
UID:5919-1487178000-1487188800@www.kitsap-humane.org
SUMMARY:Pints for Pets at Slaughter County Brewing
DESCRIPTION:Come on out to Slaughter County Brewing Company for our February Pints for Pets! Slaughter County serves “honest beer made honestly” so you can enjoy a nice cold pint\, all while helping save animal lives! \nAt this Pints for Pets event\, we will be holding a supply drive! To view our wishlist of needed items\, visit http://www.kitsap-humane.org/support-us/in-kind-donations/ Every donation of items guarantees you a snazzy KHS bandana! So round up supplies\, grab you friends\, and come on out! \n
URL:https://www.kitsap-humane.org/event/pints-for-pets-at-slaughter-county-brewing/
LOCATION:Slaughter County Brewing Company\, 1307 Bay St\, Port Orchard\, WA\, 98366\, United States
CATEGORIES:Featured
ATTACH;FMTTYPE=image/jpeg:https://www.kitsap-humane.org/wp-content/uploads/2017/01/Featured-Web-Event-slaughter-county.jpg
GEO:47.542866;-122.6261848
X-APPLE-STRUCTURED-LOCATION;VALUE=URI;X-ADDRESS=Slaughter County Brewing Company 1307 Bay St Port Orchard WA 98366 United States;X-APPLE-RADIUS=500;X-TITLE=1307 Bay St:geo:-122.6261848,47.542866
END:VEVENT
END:VCALENDAR