BEGIN:VCALENDAR
VERSION:2.0
PRODID:-//Kitsap Humane Society - ECPv5.0.3.1//NONSGML v1.0//EN
CALSCALE:GREGORIAN
METHOD:PUBLISH
X-WR-CALNAME:Kitsap Humane Society
X-ORIGINAL-URL:https://www.kitsap-humane.org
X-WR-CALDESC:Events for Kitsap Humane Society
BEGIN:VTIMEZONE
TZID:America/Vancouver
BEGIN:DAYLIGHT
TZOFFSETFROM:-0800
TZOFFSETTO:-0700
TZNAME:PDT
DTSTART:20190310T100000
END:DAYLIGHT
BEGIN:STANDARD
TZOFFSETFROM:-0700
TZOFFSETTO:-0800
TZNAME:PST
DTSTART:20191103T090000
END:STANDARD
END:VTIMEZONE
BEGIN:VEVENT
DTSTART;TZID=America/Vancouver:20190117T180000
DTEND;TZID=America/Vancouver:20190117T200000
DTSTAMP:20260420T171854
CREATED:20181221T182153Z
LAST-MODIFIED:20190107T180522Z
UID:10792-1547748000-1547755200@www.kitsap-humane.org
SUMMARY:Pints for Pets at Crane's Castle Brewing!
DESCRIPTION:It’s a New Year and a new Pints for Pets partner at Crane’s Castle!\nThursday\, January 17th\, Crane’s Castle Brewing will donate $1.50 from every pour sold between 6- 8 p.m.! \nDogs are not allowed in the brewery\, so please leave your canine crew at home for this one!\nWe will have a raffle basket up for grabs and merchandise for sale too! \nWe cannot wait to see you there! \n
URL:https://www.kitsap-humane.org/event/pints-for-pets-at-cranes-castle-brewing/
LOCATION:Crane’s Castle Brewing\, 1550 NE Riddell Rd. Suite #180\, Bremerton\, WA\, 98310\, United States
CATEGORIES:Featured
ATTACH;FMTTYPE=image/jpeg:https://www.kitsap-humane.org/wp-content/uploads/2018/12/WEB-FeatEvent-P4P.jpg
END:VEVENT
END:VCALENDAR