BEGIN:VCALENDAR
VERSION:2.0
PRODID:-//Kitsap Humane Society - ECPv5.0.3.1//NONSGML v1.0//EN
CALSCALE:GREGORIAN
METHOD:PUBLISH
X-WR-CALNAME:Kitsap Humane Society
X-ORIGINAL-URL:https://www.kitsap-humane.org
X-WR-CALDESC:Events for Kitsap Humane Society
BEGIN:VTIMEZONE
TZID:America/Vancouver
BEGIN:DAYLIGHT
TZOFFSETFROM:-0800
TZOFFSETTO:-0700
TZNAME:PDT
DTSTART:20190310T100000
END:DAYLIGHT
BEGIN:STANDARD
TZOFFSETFROM:-0700
TZOFFSETTO:-0800
TZNAME:PST
DTSTART:20191103T090000
END:STANDARD
END:VTIMEZONE
BEGIN:VEVENT
DTSTART;TZID=America/Vancouver:20191114T180000
DTEND;TZID=America/Vancouver:20191114T200000
DTSTAMP:20260420T100256
CREATED:20191024T175152Z
LAST-MODIFIED:20191024T175909Z
UID:13537-1573754400-1573761600@www.kitsap-humane.org
SUMMARY:Pints for Pets at Crane’s Castle Brewing
DESCRIPTION:Join us for another fun Pints for Pets at  Crane’s Castle Brewing in Bremerton on November 14th! $1.50 from every pour (including ciders and beers) will be donated to Kitsap Humane Society to support shelter pets in need!  Well-behaved\, leashed dogs are welcome on the patio. So\, bring your canine friend and come enjoy a cold brew. \n
URL:https://www.kitsap-humane.org/event/pints-for-pets-at-cranes-castle-brewing-2/
END:VEVENT
END:VCALENDAR