BEGIN:VCALENDAR
VERSION:2.0
PRODID:-//Kitsap Humane Society - ECPv5.0.3.1//NONSGML v1.0//EN
CALSCALE:GREGORIAN
METHOD:PUBLISH
X-WR-CALNAME:Kitsap Humane Society
X-ORIGINAL-URL:https://www.kitsap-humane.org
X-WR-CALDESC:Events for Kitsap Humane Society
BEGIN:VTIMEZONE
TZID:America/Vancouver
BEGIN:DAYLIGHT
TZOFFSETFROM:-0800
TZOFFSETTO:-0700
TZNAME:PDT
DTSTART:20180311T100000
END:DAYLIGHT
BEGIN:STANDARD
TZOFFSETFROM:-0700
TZOFFSETTO:-0800
TZNAME:PST
DTSTART:20181104T090000
END:STANDARD
END:VTIMEZONE
BEGIN:VEVENT
DTSTART;TZID=America/Vancouver:20180503T180000
DTEND;TZID=America/Vancouver:20180503T200000
DTSTAMP:20230820T232845
CREATED:20180412T210502Z
LAST-MODIFIED:20180412T210635Z
UID:9071-1525370400-1525377600@www.kitsap-humane.org
SUMMARY:Pints for Pets!
DESCRIPTION:Pints for Pets is heading to Kingston! Join us May 3rd from 6- 8 p.m. at Hood Canal Brewery!  $1 from every pour of beer will be generously donated to Kitsap Humane Society! We look forward to seeing you there 🙂 \n
URL:https://www.kitsap-humane.org/event/pints-for-pets-5/
LOCATION:Hood Canal Brewery\, 26499 Bond Rd NE\, Kingston\, WA\, 8346\, United States
GEO:47.8038305;-122.5731079
X-APPLE-STRUCTURED-LOCATION;VALUE=URI;X-ADDRESS=Hood Canal Brewery 26499 Bond Rd NE Kingston WA 8346 United States;X-APPLE-RADIUS=500;X-TITLE=26499 Bond Rd NE:geo:-122.5731079,47.8038305
END:VEVENT
END:VCALENDAR