BEGIN:VCALENDAR
VERSION:2.0
PRODID:-//Kitsap Humane Society - ECPv5.0.3.1//NONSGML v1.0//EN
CALSCALE:GREGORIAN
METHOD:PUBLISH
X-WR-CALNAME:Kitsap Humane Society
X-ORIGINAL-URL:https://www.kitsap-humane.org
X-WR-CALDESC:Events for Kitsap Humane Society
BEGIN:VTIMEZONE
TZID:America/Vancouver
BEGIN:DAYLIGHT
TZOFFSETFROM:-0800
TZOFFSETTO:-0700
TZNAME:PDT
DTSTART:20160313T100000
END:DAYLIGHT
BEGIN:STANDARD
TZOFFSETFROM:-0700
TZOFFSETTO:-0800
TZNAME:PST
DTSTART:20161106T090000
END:STANDARD
END:VTIMEZONE
BEGIN:VEVENT
DTSTART;TZID=America/Vancouver:20160607T170000
DTEND;TZID=America/Vancouver:20160607T203000
DTSTAMP:20260420T171638
CREATED:20160523T202936Z
LAST-MODIFIED:20160601T194135Z
UID:4773-1465318800-1465331400@www.kitsap-humane.org
SUMMARY:Pints for Pets
DESCRIPTION:Join Kitsap Humane Society (KHS) and the National Public House for beer\, BBQ and door prizes for our next Pints for Pets event! \nThere will be burgers and hot dogs for sale\, all proceeds from the BBQ will be donated to KHS. The National Public House will also be donating $0.75 of every beer pour to KHS\, so bring your friends to drink beer\, help animals and feel good! \nRemember\, this is an event to benefit homeless animals and KHS’ life saving programs. Please leave your pets at home.  This is a 21+ event.  There will be adoptable dogs for you to meet ( and maybe fall in love with) at the event! \nThank you to the owners and staff at the National Public House for hosting Pints for Pets and helping us save more lives!! \nIf you have any questions about this event\, please contact Rebekah Johnson at rjohnson@kitsap-humane.org \n
URL:https://www.kitsap-humane.org/event/pints-for-pets-3/
LOCATION:The National Public House\, 4102 F Street\, Bremerton\, WA\, 98312\, United States
CATEGORIES:Featured
ATTACH;FMTTYPE=image/jpeg:https://www.kitsap-humane.org/wp-content/uploads/2016/05/fb-event-header-p4p-NPH.jpg
GEO:47.5548035;-122.6681296
X-APPLE-STRUCTURED-LOCATION;VALUE=URI;X-ADDRESS=The National Public House 4102 F Street Bremerton WA 98312 United States;X-APPLE-RADIUS=500;X-TITLE=4102 F Street:geo:-122.6681296,47.5548035
END:VEVENT
END:VCALENDAR