BEGIN:VCALENDAR
VERSION:2.0
PRODID:-//Kitsap Humane Society - ECPv5.0.3.1//NONSGML v1.0//EN
CALSCALE:GREGORIAN
METHOD:PUBLISH
X-WR-CALNAME:Kitsap Humane Society
X-ORIGINAL-URL:https://www.kitsap-humane.org
X-WR-CALDESC:Events for Kitsap Humane Society
BEGIN:VTIMEZONE
TZID:America/Vancouver
BEGIN:DAYLIGHT
TZOFFSETFROM:-0800
TZOFFSETTO:-0700
TZNAME:PDT
DTSTART:20260308T100000
END:DAYLIGHT
BEGIN:STANDARD
TZOFFSETFROM:-0700
TZOFFSETTO:-0800
TZNAME:PST
DTSTART:20261101T090000
END:STANDARD
END:VTIMEZONE
BEGIN:VEVENT
DTSTART;TZID=America/Vancouver:20260606T090000
DTEND;TZID=America/Vancouver:20260606T140000
DTSTAMP:20260420T211847
CREATED:20250610T202706Z
LAST-MODIFIED:20260407T205312Z
UID:24483-1780736400-1780754400@www.kitsap-humane.org
SUMMARY:PetsWALK | June 6th\, 2026
DESCRIPTION:\nLace up your sneakers and get ready for PetsWALK!\nPresented by Animal Emergency & Specialty Center\, PetsWALK is a family-friendly fun run for everyone! Whether you’re walking with or without a dog\, this event is for you. PetsWALK offers two course options: a 5K for those ready to go the distance or a 1-mile option for a shorter walk. Pets are welcome but not required.\nAfter the walk/run\, join us at the Finn-ish Line Festival at Muriel Iverson Williams Waterfront Park for a vendor fair\, live music\, and pet contests like Talent\, Costume\, and Wiggle-Butt competitions (sign up at the pavilion).\nNEW: Fundraise this year without participating in the run/walk! By raising $$$\, you’re helping us reach our goal of $50\,000 to provide comfort and expert medical care to thousands of animals in Kitsap County. Your support ensures each pet receives the care they need to become strong\, healthy\, and ready to be adopted into loving homes.\nRegister today\, early bird registration ends April 15th!\nWhen: Saturday\, June 6th\, 2026\nTime: 9:00 a.m. to 2:00 p.m.\nWhere: Muriel Iverson Williams Waterfront Park\, 18809 Anderson Pkwy\, Poulsbo\, WA 98370\n\n
URL:https://www.kitsap-humane.org/event/petswalk-presented-animal-emergency-specialty-center-june-6/
LOCATION:Downtown Poulsbo
CATEGORIES:Featured
ATTACH;FMTTYPE=image/jpeg:https://www.kitsap-humane.org/wp-content/uploads/2025/06/WEB-FeatEvent-PW2026.jpg
END:VEVENT
END:VCALENDAR