BEGIN:VCALENDAR
VERSION:2.0
PRODID:-//Kitsap Humane Society - ECPv5.0.3.1//NONSGML v1.0//EN
CALSCALE:GREGORIAN
METHOD:PUBLISH
X-WR-CALNAME:Kitsap Humane Society
X-ORIGINAL-URL:https://www.kitsap-humane.org
X-WR-CALDESC:Events for Kitsap Humane Society
BEGIN:VTIMEZONE
TZID:America/Vancouver
BEGIN:DAYLIGHT
TZOFFSETFROM:-0800
TZOFFSETTO:-0700
TZNAME:PDT
DTSTART:20180311T100000
END:DAYLIGHT
BEGIN:STANDARD
TZOFFSETFROM:-0700
TZOFFSETTO:-0800
TZNAME:PST
DTSTART:20181104T090000
END:STANDARD
END:VTIMEZONE
BEGIN:VEVENT
DTSTART;TZID=America/Vancouver:20180217T110000
DTEND;TZID=America/Vancouver:20180217T160000
DTSTAMP:20230820T232209
CREATED:20180117T174206Z
LAST-MODIFIED:20180125T214452Z
UID:8330-1518865200-1518883200@www.kitsap-humane.org
SUMMARY:Petsmart National Adoption Weekend
DESCRIPTION:It’s Petsmart National Adoption Weekend! Friday February 16th through Sunday February 18th\, Kitsap Humane Society will have adoptable pets at the Petsmart in Silverdale. \n  \nPetsmart Silverdale is located at: \n9589 Ridgetop Blvd NW \nSilverdale\, WA 98383 \n  \nAdoption Hours are: \nFriday and Saturday 11am to 4pm \nSunday 11am to 3pm \n
URL:https://www.kitsap-humane.org/event/petsmart-national-adoption-weekend-11/
LOCATION:Petsmart Silverdale\, 9589 Ridgetop Blvd NW\, Silverdale\, WA\, 98383\, United States
GEO:47.6538817;-122.6785445
X-APPLE-STRUCTURED-LOCATION;VALUE=URI;X-ADDRESS=Petsmart Silverdale 9589 Ridgetop Blvd NW Silverdale WA 98383 United States;X-APPLE-RADIUS=500;X-TITLE=9589 Ridgetop Blvd NW:geo:-122.6785445,47.6538817
END:VEVENT
END:VCALENDAR