BEGIN:VCALENDAR
VERSION:2.0
PRODID:-//Kitsap Humane Society - ECPv5.0.3.1//NONSGML v1.0//EN
CALSCALE:GREGORIAN
METHOD:PUBLISH
X-WR-CALNAME:Kitsap Humane Society
X-ORIGINAL-URL:https://www.kitsap-humane.org
X-WR-CALDESC:Events for Kitsap Humane Society
BEGIN:VTIMEZONE
TZID:America/Vancouver
BEGIN:DAYLIGHT
TZOFFSETFROM:-0800
TZOFFSETTO:-0700
TZNAME:PDT
DTSTART:20220313T100000
END:DAYLIGHT
BEGIN:STANDARD
TZOFFSETFROM:-0700
TZOFFSETTO:-0800
TZNAME:PST
DTSTART:20221106T090000
END:STANDARD
END:VTIMEZONE
BEGIN:VEVENT
DTSTART;TZID=America/Vancouver:20220913T160000
DTEND;TZID=America/Vancouver:20220913T180000
DTSTAMP:20230820T232145
CREATED:20220810T211034Z
LAST-MODIFIED:20220908T193837Z
UID:19809-1663084800-1663092000@www.kitsap-humane.org
SUMMARY:Pets on the Patio at Finn Hill Starbucks
DESCRIPTION:Join us for our first ever Pets on the Patio! Taking place at Finn Hill Starbucks\, our September Puppuccino Pal Partner\, we will be on-site to share puppuccinos and raffle away fun prizes! \nWHEN: Tuesday\, September 13 | 4-6 pm \nWHERE: Finn Hill Starbucks\, 21215 Olhava Way NW\, Poulsbo\, WA 98370 \n
URL:https://www.kitsap-humane.org/event/pets-on-the-patio-2022/
LOCATION:Finn Hill Starbucks\, 21215 Olhava Way NW\, Poulsbo\, WA\, 98370\, United States
CATEGORIES:Featured
ATTACH;FMTTYPE=image/jpeg:https://www.kitsap-humane.org/wp-content/uploads/2022/08/WEB-FeatEvent-PetsonthePatio.jpg
END:VEVENT
END:VCALENDAR