BEGIN:VCALENDAR
VERSION:2.0
PRODID:-//Kitsap Humane Society - ECPv5.0.3.1//NONSGML v1.0//EN
CALSCALE:GREGORIAN
METHOD:PUBLISH
X-WR-CALNAME:Kitsap Humane Society
X-ORIGINAL-URL:https://www.kitsap-humane.org
X-WR-CALDESC:Events for Kitsap Humane Society
BEGIN:VTIMEZONE
TZID:America/Vancouver
BEGIN:DAYLIGHT
TZOFFSETFROM:-0800
TZOFFSETTO:-0700
TZNAME:PDT
DTSTART:20170312T100000
END:DAYLIGHT
BEGIN:STANDARD
TZOFFSETFROM:-0700
TZOFFSETTO:-0800
TZNAME:PST
DTSTART:20171105T090000
END:STANDARD
END:VTIMEZONE
BEGIN:VEVENT
DTSTART;TZID=America/Vancouver:20170603T110000
DTEND;TZID=America/Vancouver:20170603T150000
DTSTAMP:20230820T232514
CREATED:20170527T014546Z
LAST-MODIFIED:20170527T014546Z
UID:6809-1496487600-1496502000@www.kitsap-humane.org
SUMMARY:Petco National Adoption Weekend!
DESCRIPTION:We will be at the Petco in Poulsbo on Saturday June 3rd for their National Adoption Weekend Event! \n  \nAdoptable dogs\, cats\, and kittens of all sizes\, breeds\, and personalities will be  waiting to meet you! \n  \nAdoptions will take place between 11am and 3pm. \n  \nThis event is located at:\nPetco Poulsbo\n21700 Market Pl NW\nPoulsbo\, WA 98370 \n
URL:https://www.kitsap-humane.org/event/petco-national-adoption-weekend-3/
LOCATION:Petco Poulsbo\, 21700 Market Pl. NW\, Poulsbo\, WA\, 98370\, United States
GEO:47.7590793;-122.6616625
X-APPLE-STRUCTURED-LOCATION;VALUE=URI;X-ADDRESS=Petco Poulsbo 21700 Market Pl. NW Poulsbo WA 98370 United States;X-APPLE-RADIUS=500;X-TITLE=21700 Market Pl. NW:geo:-122.6616625,47.7590793
END:VEVENT
END:VCALENDAR