BEGIN:VCALENDAR
VERSION:2.0
PRODID:-//Kitsap Humane Society - ECPv5.0.3.1//NONSGML v1.0//EN
CALSCALE:GREGORIAN
METHOD:PUBLISH
X-WR-CALNAME:Kitsap Humane Society
X-ORIGINAL-URL:https://www.kitsap-humane.org
X-WR-CALDESC:Events for Kitsap Humane Society
BEGIN:VTIMEZONE
TZID:America/Vancouver
BEGIN:DAYLIGHT
TZOFFSETFROM:-0800
TZOFFSETTO:-0700
TZNAME:PDT
DTSTART:20180311T100000
END:DAYLIGHT
BEGIN:STANDARD
TZOFFSETFROM:-0700
TZOFFSETTO:-0800
TZNAME:PST
DTSTART:20181104T090000
END:STANDARD
END:VTIMEZONE
BEGIN:VEVENT
DTSTART;TZID=America/Vancouver:20180805T120000
DTEND;TZID=America/Vancouver:20180805T150000
DTSTAMP:20260420T185703
CREATED:20180705T205227Z
LAST-MODIFIED:20180729T211104Z
UID:9617-1533470400-1533481200@www.kitsap-humane.org
SUMMARY:Petco National Adoption Weekend!
DESCRIPTION:\nIt’s Petco National Adoption Weekend! On Sunday August 5th\, Kitsap Humane Society will have adoptable pets at the Petco in Gig Harbor looking for loving homes! Stop by and meet and new best friend!\n\n\n \n\n\nWHEN: Sunday\, August 5th | 12:00 p.m. to 3:00 p.m.\n\n\n \n\n\nWHERE: Petco Gig Harbor – 5190 Borgen Blvd\, Gig Harbor 98332\n\n\n \n\n\nTo view all of our adoptable pets\, please visit our available pets page.\n\n
URL:https://www.kitsap-humane.org/event/petco-national-adoption-weekend-10/
LOCATION:Petco Gig Harbor\, 5190 Borgen Blvd\, Gig Harbor\, WA\, 98332
CATEGORIES:Featured
ATTACH;FMTTYPE=image/jpeg:https://www.kitsap-humane.org/wp-content/uploads/2018/07/WEB-FeatEvent-Petco_FB-Event-Header-Pecto.jpg
GEO:47.3585004;-122.6080169
X-APPLE-STRUCTURED-LOCATION;VALUE=URI;X-ADDRESS=Petco Gig Harbor 5190 Borgen Blvd Gig Harbor WA 98332;X-APPLE-RADIUS=500;X-TITLE=5190 Borgen Blvd:geo:-122.6080169,47.3585004
END:VEVENT
END:VCALENDAR