BEGIN:VCALENDAR
VERSION:2.0
PRODID:-//Kitsap Humane Society - ECPv5.0.3.1//NONSGML v1.0//EN
CALSCALE:GREGORIAN
METHOD:PUBLISH
X-WR-CALNAME:Kitsap Humane Society
X-ORIGINAL-URL:https://www.kitsap-humane.org
X-WR-CALDESC:Events for Kitsap Humane Society
BEGIN:VTIMEZONE
TZID:America/Vancouver
BEGIN:DAYLIGHT
TZOFFSETFROM:-0800
TZOFFSETTO:-0700
TZNAME:PDT
DTSTART:20150308T100000
END:DAYLIGHT
BEGIN:STANDARD
TZOFFSETFROM:-0700
TZOFFSETTO:-0800
TZNAME:PST
DTSTART:20151101T090000
END:STANDARD
END:VTIMEZONE
BEGIN:VEVENT
DTSTART;TZID=America/Vancouver:20150808T120000
DTEND;TZID=America/Vancouver:20150808T200000
DTSTAMP:20260420T185454
CREATED:20150714T231442Z
LAST-MODIFIED:20150714T231442Z
UID:3272-1439035200-1439064000@www.kitsap-humane.org
SUMMARY:Pawpalooza
DESCRIPTION:Live music\, great food and fun raffle items\, Pawpalooza is one event you won’t want to miss! Proceeds and donated pet items will go to Kitsap Humane Society\, the Humane Society of Tacoma and Pierce County and the Fish Food Bank of Gig Harbor. The benefit is at Bed\, Bark and Beyond on Fox Island (135 Island Blvd)\, from Noon to 8 p.m.\, Saturday\, Aug. 8. Donations of pet food\, treats\, blankets\, beds and toys are appreciated and will be distributed among the three charities. \n
URL:https://www.kitsap-humane.org/event/pawpalooza/
LOCATION:Bed\, Bark and Beyond\, 135 Island Blvd\, Fox Island\, WA\, United States
GEO:47.2428148;-122.562323
X-APPLE-STRUCTURED-LOCATION;VALUE=URI;X-ADDRESS=Bed Bark and Beyond 135 Island Blvd Fox Island WA United States;X-APPLE-RADIUS=500;X-TITLE=135 Island Blvd:geo:-122.562323,47.2428148
END:VEVENT
END:VCALENDAR