BEGIN:VCALENDAR
VERSION:2.0
PRODID:-//Kitsap Humane Society - ECPv5.0.3.1//NONSGML v1.0//EN
CALSCALE:GREGORIAN
METHOD:PUBLISH
X-WR-CALNAME:Kitsap Humane Society
X-ORIGINAL-URL:https://www.kitsap-humane.org
X-WR-CALDESC:Events for Kitsap Humane Society
BEGIN:VTIMEZONE
TZID:America/Vancouver
BEGIN:DAYLIGHT
TZOFFSETFROM:-0800
TZOFFSETTO:-0700
TZNAME:PDT
DTSTART:20150308T100000
END:DAYLIGHT
BEGIN:STANDARD
TZOFFSETFROM:-0700
TZOFFSETTO:-0800
TZNAME:PST
DTSTART:20151101T090000
END:STANDARD
END:VTIMEZONE
BEGIN:VEVENT
DTSTART;TZID=America/Vancouver:20150821T120000
DTEND;TZID=America/Vancouver:20150821T173000
DTSTAMP:20260420T180919
CREATED:20150816T003319Z
LAST-MODIFIED:20150816T003319Z
UID:3462-1440158400-1440178200@www.kitsap-humane.org
SUMMARY:National Senior Citizen Day
DESCRIPTION:KHS is celebrating seniors on August 21st! All senior animals are half-off and all senior citizens (65+) receive half-off their adoption! \n
URL:https://www.kitsap-humane.org/event/national-senior-citizen-day/
LOCATION:Kitsap Humane Society\, 9167 Dickey Road NW\, Silverdale\, WA\, 98383\, United States
GEO:47.6456394;-122.7196301
X-APPLE-STRUCTURED-LOCATION;VALUE=URI;X-ADDRESS=Kitsap Humane Society 9167 Dickey Road NW Silverdale WA 98383 United States;X-APPLE-RADIUS=500;X-TITLE=9167 Dickey Road NW:geo:-122.7196301,47.6456394
END:VEVENT
END:VCALENDAR