BEGIN:VCALENDAR
VERSION:2.0
PRODID:-//Kitsap Humane Society - ECPv5.0.3.1//NONSGML v1.0//EN
CALSCALE:GREGORIAN
METHOD:PUBLISH
X-WR-CALNAME:Kitsap Humane Society
X-ORIGINAL-URL:https://www.kitsap-humane.org
X-WR-CALDESC:Events for Kitsap Humane Society
BEGIN:VTIMEZONE
TZID:America/Vancouver
BEGIN:DAYLIGHT
TZOFFSETFROM:-0800
TZOFFSETTO:-0700
TZNAME:PDT
DTSTART:20210314T100000
END:DAYLIGHT
BEGIN:STANDARD
TZOFFSETFROM:-0700
TZOFFSETTO:-0800
TZNAME:PST
DTSTART:20211107T090000
END:STANDARD
END:VTIMEZONE
BEGIN:VEVENT
DTSTART;TZID=America/Vancouver:20210201T000000
DTEND;TZID=America/Vancouver:20210214T233000
DTSTAMP:20230821T003256
CREATED:20210118T220504Z
LAST-MODIFIED:20210119T015204Z
UID:16937-1612137600-1613345400@www.kitsap-humane.org
SUMMARY:My Furry Valentine
DESCRIPTION:Are you smitten by kittens? Do you find yourself in puppy love?\nNot everyone can adopt a pet\, but anyone can send a token of their love to a special someone this Valentine’s Day to support animals in need! Send a Valentine e-card to a fellow animal-lover during our My Furry Valentine event from February 1 – 14\, sponsored by Kitsap Propane!\nYour special someone will instantly receive an e-card with your personalized message\, and a shelter pet will receive the lifesaving care they need to survive. \nYour Valentine donation will help cover the cost of caring for the homeless pets here at the shelter — from funding emergency surgeries to feeding malnourished pets.\nVisit our website to send your Valentine e-card starting February 1\, 2021!\nQuestions? Please contact Events & Outreach Manager\, Amanda Graham\, at agraham@kitsap-humane.org.\n
URL:https://www.kitsap-humane.org/event/my-furry-valentine-3/
CATEGORIES:Featured
ATTACH;FMTTYPE=image/jpeg:https://www.kitsap-humane.org/wp-content/uploads/2020/01/WEB-FeaturedEvent-furry-valentine.jpg
END:VEVENT
END:VCALENDAR