BEGIN:VCALENDAR
VERSION:2.0
PRODID:-//Kitsap Humane Society - ECPv5.0.3.1//NONSGML v1.0//EN
CALSCALE:GREGORIAN
METHOD:PUBLISH
X-WR-CALNAME:Kitsap Humane Society
X-ORIGINAL-URL:https://www.kitsap-humane.org
X-WR-CALDESC:Events for Kitsap Humane Society
BEGIN:VTIMEZONE
TZID:America/Vancouver
BEGIN:DAYLIGHT
TZOFFSETFROM:-0800
TZOFFSETTO:-0700
TZNAME:PDT
DTSTART:20180311T100000
END:DAYLIGHT
BEGIN:STANDARD
TZOFFSETFROM:-0700
TZOFFSETTO:-0800
TZNAME:PST
DTSTART:20181104T090000
END:STANDARD
END:VTIMEZONE
BEGIN:VEVENT
DTSTART;TZID=America/Vancouver:20180213T120000
DTEND;TZID=America/Vancouver:20180213T140000
DTSTAMP:20230820T232715
CREATED:20180117T180915Z
LAST-MODIFIED:20180125T214541Z
UID:8334-1518523200-1518530400@www.kitsap-humane.org
SUMMARY:Meet Your Match
DESCRIPTION:This Valentines Day\, Meet Your Match at Poulsbo City Hall! \nOn Tuesday February 13th\, Kitsap Humane Society will have adoptable pets at Poulsbo City Hall! From 12:00 p.m. to 2:00 p.m.\, Mayor Erickson has opened up City Hall to adoptable pets\, so you can find your new best friend just in time for Valentines Day! \nKHS will also have an info booth featuring information about our programs and merchandise available for purchase. \nPoulsbo City Hall is located at 200 Moe St. NE Poulsbo\, WA 98370. \n
URL:https://www.kitsap-humane.org/event/meet-your-match/
LOCATION:Poulsbo City Hall\, 200 Moe St NE\, Poulsbo\, Washington\, 98370
END:VEVENT
END:VCALENDAR