BEGIN:VCALENDAR
VERSION:2.0
PRODID:-//Kitsap Humane Society - ECPv5.0.3.1//NONSGML v1.0//EN
CALSCALE:GREGORIAN
METHOD:PUBLISH
X-WR-CALNAME:Kitsap Humane Society
X-ORIGINAL-URL:https://www.kitsap-humane.org
X-WR-CALDESC:Events for Kitsap Humane Society
BEGIN:VTIMEZONE
TZID:America/Vancouver
BEGIN:DAYLIGHT
TZOFFSETFROM:-0800
TZOFFSETTO:-0700
TZNAME:PDT
DTSTART:20160313T100000
END:DAYLIGHT
BEGIN:STANDARD
TZOFFSETFROM:-0700
TZOFFSETTO:-0800
TZNAME:PST
DTSTART:20161106T090000
END:STANDARD
END:VTIMEZONE
BEGIN:VEVENT
DTSTART;TZID=America/Vancouver:20160417T110000
DTEND;TZID=America/Vancouver:20160417T150000
DTSTAMP:20230820T230850
CREATED:20160329T182007Z
LAST-MODIFIED:20160329T182007Z
UID:4451-1460890800-1460905200@www.kitsap-humane.org
SUMMARY:Meet a Mini at Mini!
DESCRIPTION:Join us for an adoption event at Northwest Mini! Dogs and cats of all sizes\, breeds and personalities will be available for adoption and ready to meet you! Come meet a new best friend! \nDon’t forget to bring an item from our Wishlist for the Supply Drive! See our Wishlist HERE! \nHours:\n11am-3pm \nLocation:\nNorthwest Mini\n3901 20th St East\, Tacoma WA \n
URL:https://www.kitsap-humane.org/event/meet-a-mini-at-mini/
LOCATION:Northwest Mini\, 3901 20th St East\, Tacoma\, WA\, 98424\, United States
GEO:47.2396493;-122.3763325
X-APPLE-STRUCTURED-LOCATION;VALUE=URI;X-ADDRESS=Northwest Mini 3901 20th St East Tacoma WA 98424 United States;X-APPLE-RADIUS=500;X-TITLE=3901 20th St East:geo:-122.3763325,47.2396493
END:VEVENT
END:VCALENDAR