BEGIN:VCALENDAR
VERSION:2.0
PRODID:-//Kitsap Humane Society - ECPv5.0.3.1//NONSGML v1.0//EN
CALSCALE:GREGORIAN
METHOD:PUBLISH
X-WR-CALNAME:Kitsap Humane Society
X-ORIGINAL-URL:https://www.kitsap-humane.org
X-WR-CALDESC:Events for Kitsap Humane Society
BEGIN:VTIMEZONE
TZID:America/Vancouver
BEGIN:DAYLIGHT
TZOFFSETFROM:-0800
TZOFFSETTO:-0700
TZNAME:PDT
DTSTART:20190310T100000
END:DAYLIGHT
BEGIN:STANDARD
TZOFFSETFROM:-0700
TZOFFSETTO:-0800
TZNAME:PST
DTSTART:20191103T090000
END:STANDARD
END:VTIMEZONE
BEGIN:VEVENT
DTSTART;TZID=America/Vancouver:20190518T120000
DTEND;TZID=America/Vancouver:20190518T150000
DTSTAMP:20230820T230852
CREATED:20190425T004106Z
LAST-MODIFIED:20190426T215540Z
UID:12088-1558180800-1558191600@www.kitsap-humane.org
SUMMARY:Meet A "Mini" At Mini!
DESCRIPTION:Come meet your “Mini” at Northwest Mini! We will have adoptable puppies\, kittens\, and small dogs all looking for wonderful homes! Join us for a day of fun with raffles provided by The Northwest Dog\, Mud Bay passing out treats to adopting families\, Rain City Dogs providing food\, custom embroidered bandannas on-site and lots more! It’s lots of fun in a small package!\n\n\nWHEN: Saturday\, May 18th | 12:00 p.m. to 3:00 p.m.\n\n\n \n\n\nWHERE: Northwest Mini – 3901 20th St E\, Tacoma\, WA 98424\n\n\n \n\n\nTo view all of our adoptable pets\, please visit our available pets page.\n\n
URL:https://www.kitsap-humane.org/event/meet-a-mini-at-mini-2/
LOCATION:Northwest Mini\, 3901 20th St East\, Tacoma\, WA\, 98424\, United States
CATEGORIES:Featured
ATTACH;FMTTYPE=image/jpeg:https://www.kitsap-humane.org/wp-content/uploads/2019/04/WEB-FeatEvent-MeetaMini.jpg
GEO:47.2396493;-122.3763325
X-APPLE-STRUCTURED-LOCATION;VALUE=URI;X-ADDRESS=Northwest Mini 3901 20th St East Tacoma WA 98424 United States;X-APPLE-RADIUS=500;X-TITLE=3901 20th St East:geo:-122.3763325,47.2396493
END:VEVENT
END:VCALENDAR