BEGIN:VCALENDAR
VERSION:2.0
PRODID:-//Kitsap Humane Society - ECPv5.0.3.1//NONSGML v1.0//EN
CALSCALE:GREGORIAN
METHOD:PUBLISH
X-WR-CALNAME:Kitsap Humane Society
X-ORIGINAL-URL:https://www.kitsap-humane.org
X-WR-CALDESC:Events for Kitsap Humane Society
BEGIN:VTIMEZONE
TZID:America/Vancouver
BEGIN:DAYLIGHT
TZOFFSETFROM:-0800
TZOFFSETTO:-0700
TZNAME:PDT
DTSTART:20180311T100000
END:DAYLIGHT
BEGIN:STANDARD
TZOFFSETFROM:-0700
TZOFFSETTO:-0800
TZNAME:PST
DTSTART:20181104T090000
END:STANDARD
END:VTIMEZONE
BEGIN:VEVENT
DTSTART;TZID=America/Vancouver:20180325T120000
DTEND;TZID=America/Vancouver:20180325T150000
DTSTAMP:20260420T171916
CREATED:20180301T024015Z
LAST-MODIFIED:20180301T024015Z
UID:8740-1521979200-1521990000@www.kitsap-humane.org
SUMMARY:Lovable Littles!
DESCRIPTION:Kitsap Humane Society will have adoptable cats and small dogs at Naturally 4 Paws in Silverdale! Come in and find a new best friend! \n  \nWHEN: \nSunday\, March 25th \n12am to 3pm \n  \nWHERE: \nNaturally 4 Paws \n9337 Silverdale Way NW \nSilverdale\, WA 98383 \n  \nFor more information on our adoption process and to view our available pets\, please visit our adoption page! \n
URL:https://www.kitsap-humane.org/event/lovable-littles-3/
LOCATION:Naturally 4 Paws\, 9337 Silverdale Way NW\, Silverdale\, WA\, 98383
GEO:47.6484385;-122.6970156
X-APPLE-STRUCTURED-LOCATION;VALUE=URI;X-ADDRESS=Naturally 4 Paws 9337 Silverdale Way NW Silverdale WA 98383;X-APPLE-RADIUS=500;X-TITLE=9337 Silverdale Way NW:geo:-122.6970156,47.6484385
END:VEVENT
END:VCALENDAR