BEGIN:VCALENDAR
VERSION:2.0
PRODID:-//Kitsap Humane Society - ECPv5.0.3.1//NONSGML v1.0//EN
CALSCALE:GREGORIAN
METHOD:PUBLISH
X-WR-CALNAME:Kitsap Humane Society
X-ORIGINAL-URL:https://www.kitsap-humane.org
X-WR-CALDESC:Events for Kitsap Humane Society
BEGIN:VTIMEZONE
TZID:America/Vancouver
BEGIN:DAYLIGHT
TZOFFSETFROM:-0800
TZOFFSETTO:-0700
TZNAME:PDT
DTSTART:20190310T100000
END:DAYLIGHT
BEGIN:STANDARD
TZOFFSETFROM:-0700
TZOFFSETTO:-0800
TZNAME:PST
DTSTART:20191103T090000
END:STANDARD
END:VTIMEZONE
BEGIN:VEVENT
DTSTART;TZID=America/Vancouver:20190302T120000
DTEND;TZID=America/Vancouver:20190302T150000
DTSTAMP:20260419T223343
CREATED:20190222T231944Z
LAST-MODIFIED:20190225T210407Z
UID:11377-1551528000-1551538800@www.kitsap-humane.org
SUMMARY:Kitten Tales at Away With Words Bookshop
DESCRIPTION:Come visit us at Away With Words Bookshop on Saturday\, March 2nd from 12 PM to 3 PM to learn more about how you can help kittens in need by becoming a KHS foster parent! We will also have adorable adoptable kittens looking for their purr-fect homes! Come find the lap cat you have always wanted while you kick-back with your favorite book! \nFrom February 24th to March 2nd\, 10% of all Cat’s Meow Bath Bombs at Away With Words Bookshop will be donated to KHS. \n  \nWHEN: Saturday\, March 2nd | 12:00 p.m. to 3:00 p.m. \nWHERE: Away With Words Bookshop – 18954 Front St NE\, Poulsbo\, WA 98370 \nCheck out all of our adoptable pets on our available pets page! \n  \n
URL:https://www.kitsap-humane.org/event/kitten-tales-at-away-with-words-bookshop/
LOCATION:Away With Words Bookshop\, 18954 Front St NE\, Poulsbo\, WA\, 98370\, United States
CATEGORIES:Featured
ATTACH;FMTTYPE=image/jpeg:https://www.kitsap-humane.org/wp-content/uploads/2019/02/WEB-FeatEvent-KittenTales.jpg
END:VEVENT
END:VCALENDAR