BEGIN:VCALENDAR
VERSION:2.0
PRODID:-//Kitsap Humane Society - ECPv5.0.3.1//NONSGML v1.0//EN
CALSCALE:GREGORIAN
METHOD:PUBLISH
X-WR-CALNAME:Kitsap Humane Society
X-ORIGINAL-URL:https://www.kitsap-humane.org
X-WR-CALDESC:Events for Kitsap Humane Society
BEGIN:VTIMEZONE
TZID:America/Vancouver
BEGIN:DAYLIGHT
TZOFFSETFROM:-0800
TZOFFSETTO:-0700
TZNAME:PDT
DTSTART:20200308T100000
END:DAYLIGHT
BEGIN:STANDARD
TZOFFSETFROM:-0700
TZOFFSETTO:-0800
TZNAME:PST
DTSTART:20201101T090000
END:STANDARD
END:VTIMEZONE
BEGIN:VEVENT
DTSTART;TZID=America/Vancouver:20200808T140000
DTEND;TZID=America/Vancouver:20200808T170000
DTSTAMP:20230820T232837
CREATED:20190208T202641Z
LAST-MODIFIED:20200713T191108Z
UID:11326-1596895200-1596906000@www.kitsap-humane.org
SUMMARY:CANCELED: Kitsap Wine Festival Presented by Mud Bay
DESCRIPTION: \nWith regrets\, this event is CANCELED due to COVID-19. See you in 2021!!!\nThe 12th Annual Kitsap Wine Festival will take place August 8\, 2020!\nCome celebrate food\, wine and your love of shelter pets at the Kitsap Wine Festival benefiting Kitsap Humane Society! Since it began 12 years ago\, the Kitsap Wine Festival has featured live music\, delicious food\, and of course\, great wines. Over 550 guests participated in 2019\, raising over $67\,000 to help shelter pets in need!\n  \nA big thank you to all of our 2019 Kitsap Wine Festival sponsors!\n \n\nFind out more and see photos from the event HERE!\n \n\n
URL:https://www.kitsap-humane.org/event/kitsap-wine-festival/
LOCATION:Harborside Fountain Park\, Harborside Fountain Park\, Bremerton\, WA\, 98337\, United States
END:VEVENT
END:VCALENDAR