BEGIN:VCALENDAR
VERSION:2.0
PRODID:-//Kitsap Humane Society - ECPv5.0.3.1//NONSGML v1.0//EN
CALSCALE:GREGORIAN
METHOD:PUBLISH
X-WR-CALNAME:Kitsap Humane Society
X-ORIGINAL-URL:https://www.kitsap-humane.org
X-WR-CALDESC:Events for Kitsap Humane Society
BEGIN:VTIMEZONE
TZID:America/Vancouver
BEGIN:DAYLIGHT
TZOFFSETFROM:-0800
TZOFFSETTO:-0700
TZNAME:PDT
DTSTART:20200308T100000
END:DAYLIGHT
BEGIN:STANDARD
TZOFFSETFROM:-0700
TZOFFSETTO:-0800
TZNAME:PST
DTSTART:20201101T090000
END:STANDARD
END:VTIMEZONE
BEGIN:VEVENT
DTSTART;TZID=America/Vancouver:20200411T140000
DTEND;TZID=America/Vancouver:20200411T153000
DTSTAMP:20260420T180918
CREATED:20200310T194210Z
LAST-MODIFIED:20200310T194210Z
UID:15051-1586613600-1586619000@www.kitsap-humane.org
SUMMARY:Kitsap Humane Society's Annual Meeting
DESCRIPTION:We invite our community of supporters to attend our April 11\, 2020 annual meeting. From 2-3:30  p.m.\, you can meet Kitsap Humane Society Board members\, hear what happens at our board meetings\, and see some of the behind-the-scenes workings of Kitsap Humane Society’s administrative team. We will also be giving out volunteer and foster parent awards and will share exciting updates about our capital campaign! \nThis annual meeting will take place in one of the conference rooms at the Silverdale Beach Hotel. \n
URL:https://www.kitsap-humane.org/event/kitsap-humane-societys-annual-meeting/
END:VEVENT
END:VCALENDAR