BEGIN:VCALENDAR
VERSION:2.0
PRODID:-//Kitsap Humane Society - ECPv5.0.3.1//NONSGML v1.0//EN
CALSCALE:GREGORIAN
METHOD:PUBLISH
X-WR-CALNAME:Kitsap Humane Society
X-ORIGINAL-URL:https://www.kitsap-humane.org
X-WR-CALDESC:Events for Kitsap Humane Society
BEGIN:VTIMEZONE
TZID:America/Vancouver
BEGIN:DAYLIGHT
TZOFFSETFROM:-0800
TZOFFSETTO:-0700
TZNAME:PDT
DTSTART:20170312T100000
END:DAYLIGHT
BEGIN:STANDARD
TZOFFSETFROM:-0700
TZOFFSETTO:-0800
TZNAME:PST
DTSTART:20171105T090000
END:STANDARD
END:VTIMEZONE
BEGIN:VEVENT
DTSTART;TZID=America/Vancouver:20170502T000000
DTEND;TZID=America/Vancouver:20170502T235500
DTSTAMP:20230820T225110
CREATED:20170419T194249Z
LAST-MODIFIED:20170421T175722Z
UID:6669-1493683200-1493769300@www.kitsap-humane.org
SUMMARY:Kitsap Great Give is May 2nd!!!
DESCRIPTION:\nKitsap Great Give is a part of a nation wide day of giving on May 2\, 2017. The Great Give is an opportunity for non-profits across Kitsap County to raise crucial funds for their organizations \, funds that will be magnified/matched! \nHelp us beat our Great Give goal of $50\,000! \nThis year\, KHS needs your help to reach our goal of $50\,000  during this 24-hours of giving.  We can do this! \nNew This Year! You can pre-schedule your donations! \nYou can go to https://kitsapgreatgive.org/npo/kitsap-humane-society starting April 18\, and schedule your donation ahead of time! You can enter in your entire donation\, and it won’t be processed until the morning of May 2! *prescheduled donations will not count toward early or golden ticket prizes* \nMark your calendars and make sure to visit https://kitsapgreatgive.org/npo/kitsap-humane-society. \n
URL:https://www.kitsap-humane.org/event/kitsap-great-give-is-may-2nd/
CATEGORIES:Featured
ATTACH;FMTTYPE=image/png:https://www.kitsap-humane.org/wp-content/uploads/2017/04/GG-graphic-1.png
END:VEVENT
END:VCALENDAR