BEGIN:VCALENDAR
VERSION:2.0
PRODID:-//Kitsap Humane Society - ECPv5.0.3.1//NONSGML v1.0//EN
CALSCALE:GREGORIAN
METHOD:PUBLISH
X-WR-CALNAME:Kitsap Humane Society
X-ORIGINAL-URL:https://www.kitsap-humane.org
X-WR-CALDESC:Events for Kitsap Humane Society
BEGIN:VTIMEZONE
TZID:America/Vancouver
BEGIN:DAYLIGHT
TZOFFSETFROM:-0800
TZOFFSETTO:-0700
TZNAME:PDT
DTSTART:20190310T100000
END:DAYLIGHT
BEGIN:STANDARD
TZOFFSETFROM:-0700
TZOFFSETTO:-0800
TZNAME:PST
DTSTART:20191103T090000
END:STANDARD
END:VTIMEZONE
BEGIN:VEVENT
DTSTART;VALUE=DATE:20190423
DTEND;VALUE=DATE:20190424
DTSTAMP:20260420T172027
CREATED:20190329T225437Z
LAST-MODIFIED:20190329T225720Z
UID:11747-1555977600-1556063999@www.kitsap-humane.org
SUMMARY:Kitsap Great Give
DESCRIPTION:Mark your calendars for Kitsap Great Give and help Kitsap Humane Society save even more pets! Your gift will be boosted during this 24-hour online giving event. On April 23\, visit kitsapgreatgive.org and select “Kitsap Humane Society” as your charity of choice. Can’t wait to donate? You can schedule your gift online beginning April 9. Your donation can help shelter pets TODAY! Help us help them. \n
URL:https://www.kitsap-humane.org/event/kitsap-great-give-3/
LOCATION:Kitsap Humane Society\, 9167 Dickey Road NW\, Silverdale\, WA\, 98383\, United States
CATEGORIES:Featured
ATTACH;FMTTYPE=image/jpeg:https://www.kitsap-humane.org/wp-content/uploads/2019/03/FB-Banner-GreatGive.jpg
GEO:47.6456394;-122.7196301
X-APPLE-STRUCTURED-LOCATION;VALUE=URI;X-ADDRESS=Kitsap Humane Society 9167 Dickey Road NW Silverdale WA 98383 United States;X-APPLE-RADIUS=500;X-TITLE=9167 Dickey Road NW:geo:-122.7196301,47.6456394
END:VEVENT
END:VCALENDAR