BEGIN:VCALENDAR
VERSION:2.0
PRODID:-//Kitsap Humane Society - ECPv5.0.3.1//NONSGML v1.0//EN
CALSCALE:GREGORIAN
METHOD:PUBLISH
X-WR-CALNAME:Kitsap Humane Society
X-ORIGINAL-URL:https://www.kitsap-humane.org
X-WR-CALDESC:Events for Kitsap Humane Society
BEGIN:VTIMEZONE
TZID:America/Vancouver
BEGIN:DAYLIGHT
TZOFFSETFROM:-0800
TZOFFSETTO:-0700
TZNAME:PDT
DTSTART:20210314T100000
END:DAYLIGHT
BEGIN:STANDARD
TZOFFSETFROM:-0700
TZOFFSETTO:-0800
TZNAME:PST
DTSTART:20211107T090000
END:STANDARD
END:VTIMEZONE
BEGIN:VEVENT
DTSTART;VALUE=DATE:20210420
DTEND;VALUE=DATE:20210421
DTSTAMP:20230820T235744
CREATED:20210324T203818Z
LAST-MODIFIED:20210324T204740Z
UID:17282-1618876800-1618963199@www.kitsap-humane.org
SUMMARY:2021 Kitsap Great Give
DESCRIPTION:Mark your calendars for Kitsap Great Give and help Kitsap Humane Society save even more pets!\nYour gift will be boosted during this 24-hour online giving event. On April 20\, visit kitsapgreatgive.org and select “Kitsap Humane Society” as your charity of choice.\nCan’t wait to donate? You can schedule your gift online beginning April 1. Your donation can help shelter pets TODAY! Help us help them.\n
URL:https://www.kitsap-humane.org/event/kitsap-great-give-2021/
CATEGORIES:Featured
ATTACH;FMTTYPE=image/jpeg:https://www.kitsap-humane.org/wp-content/uploads/2021/03/WEB-FeatEvent-GreatGive2021.jpg
END:VEVENT
END:VCALENDAR