BEGIN:VCALENDAR
VERSION:2.0
PRODID:-//Kitsap Humane Society - ECPv5.0.3.1//NONSGML v1.0//EN
CALSCALE:GREGORIAN
METHOD:PUBLISH
X-WR-CALNAME:Kitsap Humane Society
X-ORIGINAL-URL:https://www.kitsap-humane.org
X-WR-CALDESC:Events for Kitsap Humane Society
BEGIN:VTIMEZONE
TZID:America/Vancouver
BEGIN:DAYLIGHT
TZOFFSETFROM:-0800
TZOFFSETTO:-0700
TZNAME:PDT
DTSTART:20180311T100000
END:DAYLIGHT
BEGIN:STANDARD
TZOFFSETFROM:-0700
TZOFFSETTO:-0800
TZNAME:PST
DTSTART:20181104T090000
END:STANDARD
END:VTIMEZONE
BEGIN:VEVENT
DTSTART;TZID=America/Vancouver:20181027T120000
DTEND;TZID=America/Vancouver:20181027T173000
DTSTAMP:20230821T001826
CREATED:20180927T001705Z
LAST-MODIFIED:20181016T193635Z
UID:10181-1540641600-1540661400@www.kitsap-humane.org
SUMMARY:Howl-O-Ween Adoption Extravaganza! Presented By VCA Central Kitsap
DESCRIPTION:Join Kitsap Humane Society for our Howl-O-Ween Adoption Extravaganza presented by VCA Central Kitsap! Celebrate this spooktacular time of year by adopting a pet at Kitsap Humane Society! \nOn Saturday October 27th\, all adoption fees will be discounted! Adoption fees for adult cats (one year and up) will be 1/2 off\, while all other adoption fees will be $25 off! \nWHEN: Saturday October 27th\, 12:00 p.m. to 5:30 p.m. (New adoption applications must be submitted by 4:30 p.m.) \nWHERE: Kitsap Humane Society\, 9167 Dickey Road NW Silverdale\, WA 98383 \nCheck out our available pets page to view all of our adoptable animals! \nThis special will also take place at our offsite adoption center at the Silverdale Petsmart! \nAdoptions at the Silverdale Petsmart are open from 11am to 4pm. The Silverdale Petsmart is located at 9589 Ridgetop Blvd. Silverdale\, WA 98383. \n
URL:https://www.kitsap-humane.org/event/howl-o-ween-adoption-extravaganza-presented-by-vca-central-kitsap/
CATEGORIES:Featured
ATTACH;FMTTYPE=image/jpeg:https://www.kitsap-humane.org/wp-content/uploads/2018/09/WEB-FeatEvent-Howl-O-Ween.jpg
END:VEVENT
END:VCALENDAR