BEGIN:VCALENDAR
VERSION:2.0
PRODID:-//Kitsap Humane Society - ECPv5.0.3.1//NONSGML v1.0//EN
CALSCALE:GREGORIAN
METHOD:PUBLISH
X-WR-CALNAME:Kitsap Humane Society
X-ORIGINAL-URL:https://www.kitsap-humane.org
X-WR-CALDESC:Events for Kitsap Humane Society
BEGIN:VTIMEZONE
TZID:America/Vancouver
BEGIN:DAYLIGHT
TZOFFSETFROM:-0800
TZOFFSETTO:-0700
TZNAME:PDT
DTSTART:20190310T100000
END:DAYLIGHT
BEGIN:STANDARD
TZOFFSETFROM:-0700
TZOFFSETTO:-0800
TZNAME:PST
DTSTART:20191103T090000
END:STANDARD
END:VTIMEZONE
BEGIN:VEVENT
DTSTART;VALUE=DATE:20191203
DTEND;VALUE=DATE:20191204
DTSTAMP:20260420T194625
CREATED:20191115T214620Z
LAST-MODIFIED:20191115T214620Z
UID:13752-1575331200-1575417599@www.kitsap-humane.org
SUMMARY:Giving Tuesday
DESCRIPTION:\nEvery life we save\, each and every happy ending story\, starts with YOU.\nPlease remember the animals by making your #GivingTuesday donation to Kitsap Humane Society! \nBrooksie was rescued by our Animal Control Officers after being abandoned in a home that was unfit to live in.  Our veterinary team and behavior staff provided this scared pup with the care he needed\, and a local groomer tended to his matted and filthy coat. \nWith all this TLC\, Brooksie became a warm\, trusting and affectionate little dog who loves people. \nToday he’s an absolutely adored member of his new family. All because of your support! \nPlease open your heart on #Giving Tuesday\, and give generously today! \n
URL:https://www.kitsap-humane.org/event/giving-tuesday-2/
END:VEVENT
END:VCALENDAR