BEGIN:VCALENDAR
VERSION:2.0
PRODID:-//Kitsap Humane Society - ECPv5.0.3.1//NONSGML v1.0//EN
CALSCALE:GREGORIAN
METHOD:PUBLISH
X-WR-CALNAME:Kitsap Humane Society
X-ORIGINAL-URL:https://www.kitsap-humane.org
X-WR-CALDESC:Events for Kitsap Humane Society
BEGIN:VTIMEZONE
TZID:America/Vancouver
BEGIN:DAYLIGHT
TZOFFSETFROM:-0800
TZOFFSETTO:-0700
TZNAME:PDT
DTSTART:20150308T100000
END:DAYLIGHT
BEGIN:STANDARD
TZOFFSETFROM:-0700
TZOFFSETTO:-0800
TZNAME:PST
DTSTART:20151101T090000
END:STANDARD
END:VTIMEZONE
BEGIN:VEVENT
DTSTART;TZID=America/Vancouver:20150515T080000
DTEND;TZID=America/Vancouver:20150515T170000
DTSTAMP:20260420T194626
CREATED:20150407T192827Z
LAST-MODIFIED:20150519T175446Z
UID:2166-1431676800-1431709200@www.kitsap-humane.org
SUMMARY:"Fore the Animals" Golf Tournament
DESCRIPTION:Thank you to the golfers\, the 7 dogs\, the volunteers and KHS staff who came out for the 3rd Annual “Fore the Animals” Golf Tournament Friday\, May15\, 2015 at Trophy Lake Golf Course.\n  \n“Fore the Animals” Golf Tournament is crucial in raising the funds needed for Kitsap Humane Society to continue our mission in rescuing\, rehabilitating and rehoming animals in our community. The tournament would not have been possible without the support and dedication of our sponsors\, event committee\, staff\, golfers and volunteers. \nThank you to everyone who made “Fore the Animals a success!  \nBelow are some photos from the event provided by Mary Eklund from Four Foot Photography!!! \n     \n \n \n  \nThank you to our 2015 event sponsors: \nGold Paw Sponsor :   \n    \nAwards Sponsor :  \n \nWarm-Up Sponsor:  \n \n
URL:https://www.kitsap-humane.org/event/fore-the-animals-golf-tournament/
CATEGORIES:Featured
ATTACH;FMTTYPE=image/jpeg:https://www.kitsap-humane.org/wp-content/uploads/2015/04/download.jpg
END:VEVENT
END:VCALENDAR