BEGIN:VCALENDAR
VERSION:2.0
PRODID:-//Kitsap Humane Society - ECPv5.0.3.1//NONSGML v1.0//EN
CALSCALE:GREGORIAN
METHOD:PUBLISH
X-WR-CALNAME:Kitsap Humane Society
X-ORIGINAL-URL:https://www.kitsap-humane.org
X-WR-CALDESC:Events for Kitsap Humane Society
BEGIN:VTIMEZONE
TZID:America/Vancouver
BEGIN:DAYLIGHT
TZOFFSETFROM:-0800
TZOFFSETTO:-0700
TZNAME:PDT
DTSTART:20180311T100000
END:DAYLIGHT
BEGIN:STANDARD
TZOFFSETFROM:-0700
TZOFFSETTO:-0800
TZNAME:PST
DTSTART:20181104T090000
END:STANDARD
END:VTIMEZONE
BEGIN:VEVENT
DTSTART;TZID=America/Vancouver:20180518T090000
DTEND;TZID=America/Vancouver:20180518T170000
DTSTAMP:20230820T223329
CREATED:20170203T200917Z
LAST-MODIFIED:20180519T184918Z
UID:4809-1526634000-1526662800@www.kitsap-humane.org
SUMMARY:Fore! the Animals Presented by The Latitude 48 Group
DESCRIPTION:What a fun day on the fairway!\nCheck back soon for event photos and totals!\nWhat\n\n\n \nPictures from FORE! The Animals 2017\n \n\n\n\n\n\n\n\n
URL:https://www.kitsap-humane.org/event/fore-the-animals-golf-tournament-2/
LOCATION:Trophy Lake Golf and Country Club\, 3900 SW Lake Flora Rd\, Port Orchard\, 98387
CATEGORIES:Featured
ATTACH;FMTTYPE=image/jpeg:https://www.kitsap-humane.org/wp-content/uploads/2017/02/WEB-FeatEvent-FORE.jpg
GEO:47.4718383;-122.7064953
X-APPLE-STRUCTURED-LOCATION;VALUE=URI;X-ADDRESS=Trophy Lake Golf and Country Club 3900 SW Lake Flora Rd Port Orchard 98387;X-APPLE-RADIUS=500;X-TITLE=3900 SW Lake Flora Rd:geo:-122.7064953,47.4718383
END:VEVENT
END:VCALENDAR