BEGIN:VCALENDAR
VERSION:2.0
PRODID:-//Kitsap Humane Society - ECPv5.0.3.1//NONSGML v1.0//EN
CALSCALE:GREGORIAN
METHOD:PUBLISH
X-WR-CALNAME:Kitsap Humane Society
X-ORIGINAL-URL:https://www.kitsap-humane.org
X-WR-CALDESC:Events for Kitsap Humane Society
BEGIN:VTIMEZONE
TZID:America/Vancouver
BEGIN:DAYLIGHT
TZOFFSETFROM:-0800
TZOFFSETTO:-0700
TZNAME:PDT
DTSTART:20170312T100000
END:DAYLIGHT
BEGIN:STANDARD
TZOFFSETFROM:-0700
TZOFFSETTO:-0800
TZNAME:PST
DTSTART:20171105T090000
END:STANDARD
END:VTIMEZONE
BEGIN:VEVENT
DTSTART;TZID=America/Vancouver:20171026T180000
DTEND;TZID=America/Vancouver:20171026T193000
DTSTAMP:20260420T172024
CREATED:20170928T211437Z
LAST-MODIFIED:20171012T191451Z
UID:7506-1509040800-1509046200@www.kitsap-humane.org
SUMMARY:Estate Planning Seminar
DESCRIPTION: \nThe seminar is FREE and will be led by two local attorneys\nand estate planning experts. We will be discussing wills\, trusts\, charitable giving and various other\naspects of what you might need to know when planning your personal estate.\nQuestions or to reserve your spot\, please contact:\nTom Weed\,  Director of Donor Relations  Call: (360) 692-6977 x 1224 or email: tweed@kitsap-humane.org \n
URL:https://www.kitsap-humane.org/event/estate-planning-seminar-2/
LOCATION:Silverdale Beach Hotel\, 3073 NW Bucklin Hill Rd\, Silverdale\, WA\, 98383\, United States
CATEGORIES:Featured
ATTACH;FMTTYPE=image/jpeg:https://www.kitsap-humane.org/wp-content/uploads/2017/09/Estate-Planning-Seminar-FB-Event-Header.jpg
GEO:47.6490419;-122.6907331
X-APPLE-STRUCTURED-LOCATION;VALUE=URI;X-ADDRESS=Silverdale Beach Hotel 3073 NW Bucklin Hill Rd Silverdale WA 98383 United States;X-APPLE-RADIUS=500;X-TITLE=3073 NW Bucklin Hill Rd:geo:-122.6907331,47.6490419
END:VEVENT
END:VCALENDAR