BEGIN:VCALENDAR
VERSION:2.0
PRODID:-//Kitsap Humane Society - ECPv5.0.3.1//NONSGML v1.0//EN
CALSCALE:GREGORIAN
METHOD:PUBLISH
X-WR-CALNAME:Kitsap Humane Society
X-ORIGINAL-URL:https://www.kitsap-humane.org
X-WR-CALDESC:Events for Kitsap Humane Society
BEGIN:VTIMEZONE
TZID:America/Vancouver
BEGIN:DAYLIGHT
TZOFFSETFROM:-0800
TZOFFSETTO:-0700
TZNAME:PDT
DTSTART:20230312T100000
END:DAYLIGHT
BEGIN:STANDARD
TZOFFSETFROM:-0700
TZOFFSETTO:-0800
TZNAME:PST
DTSTART:20231105T090000
END:STANDARD
END:VTIMEZONE
BEGIN:VEVENT
DTSTART;TZID=America/Vancouver:20230501T120000
DTEND;TZID=America/Vancouver:20230515T160000
DTSTAMP:20230820T225031
CREATED:20230420T190013Z
LAST-MODIFIED:20230424T223151Z
UID:19284-1682942400-1684166400@www.kitsap-humane.org
SUMMARY:Empty the Shelters: National Adoption Event
DESCRIPTION:We are thrilled to partner with BISSELL Pet Foundation for their Empty the Shelters: National Adoption Event in May 2023! We will offer $20 adoption fees for senior cat (7+ years) and Hidden Gem cat adoptions from May 1 to May 15. When animals are available for adoption for 30+ days or have special housing requirements\, they may become one of our Hidden Gems to help find their forever family. \nAdoptions are held Wednesday through Monday from 12 pm to 4 pm. Our adoption process is a walk-up and queue based\, first-come\, first serve system. \nMark your calendars and come adopt a new feline BFF to help #EmptyTheShelters. It will be meow-velous! View our adoptable cats today: https://bit.ly/khs-available-pets \n
URL:https://www.kitsap-humane.org/event/empty-the-shelters-may-2023/
LOCATION:Kitsap Humane Society\, 9167 Dickey Road NW\, Silverdale\, WA\, 98383\, United States
ATTACH;FMTTYPE=image/png:https://www.kitsap-humane.org/wp-content/uploads/2022/04/BISSELL-Pet-Foundation.png
GEO:47.6456394;-122.7196301
X-APPLE-STRUCTURED-LOCATION;VALUE=URI;X-ADDRESS=Kitsap Humane Society 9167 Dickey Road NW Silverdale WA 98383 United States;X-APPLE-RADIUS=500;X-TITLE=9167 Dickey Road NW:geo:-122.7196301,47.6456394
END:VEVENT
END:VCALENDAR