BEGIN:VCALENDAR
VERSION:2.0
PRODID:-//Kitsap Humane Society - ECPv5.0.3.1//NONSGML v1.0//EN
CALSCALE:GREGORIAN
METHOD:PUBLISH
X-WR-CALNAME:Kitsap Humane Society
X-ORIGINAL-URL:https://www.kitsap-humane.org
X-WR-CALDESC:Events for Kitsap Humane Society
BEGIN:VTIMEZONE
TZID:America/Vancouver
BEGIN:DAYLIGHT
TZOFFSETFROM:-0800
TZOFFSETTO:-0700
TZNAME:PDT
DTSTART:20220313T100000
END:DAYLIGHT
BEGIN:STANDARD
TZOFFSETFROM:-0700
TZOFFSETTO:-0800
TZNAME:PST
DTSTART:20221106T090000
END:STANDARD
END:VTIMEZONE
BEGIN:VEVENT
DTSTART;TZID=America/Vancouver:20220716T120000
DTEND;TZID=America/Vancouver:20220716T150000
DTSTAMP:20260421T082527
CREATED:20220630T202911Z
LAST-MODIFIED:20220630T203154Z
UID:19594-1657972800-1657983600@www.kitsap-humane.org
SUMMARY:Drive for a Cause Adoption Event
DESCRIPTION:Our friends at Haselwood Auto Group are hosting Drive for a Cause benefiting Kitsap Humane Society during the month of July! For the entire month\, $20 will be donated for every vehicle purchased and $5 will be donated for every service repair order. \nTo celebrate this special event\, Kitsap Humane Society will be bringing adorable adoptable pets to Haselwood Auto Group on Saturday\, July 16 from 12-3 p.m. for a special off-site adoption event! \nWHEN: Saturday\, July 16\, 12-3 pm\nWHERE: West Hills Kia – 515 W Hills Blvd\, Bremerton\, WA 98312 \nTo view all of our adoptable pets\, please visit our available pets page. \n
URL:https://www.kitsap-humane.org/event/drive-for-a-cause-adoption-event/
LOCATION:Haselwood Auto\, 950 West Hills Blvd\, Bremerton\, WA\, United States
ATTACH;FMTTYPE=image/jpeg:https://www.kitsap-humane.org/wp-content/uploads/2021/03/WEB-FeatEvent-Drive-for-a-Cause2021.jpg
END:VEVENT
END:VCALENDAR