BEGIN:VCALENDAR
VERSION:2.0
PRODID:-//Kitsap Humane Society - ECPv5.0.3.1//NONSGML v1.0//EN
CALSCALE:GREGORIAN
METHOD:PUBLISH
X-WR-CALNAME:Kitsap Humane Society
X-ORIGINAL-URL:https://www.kitsap-humane.org
X-WR-CALDESC:Events for Kitsap Humane Society
BEGIN:VTIMEZONE
TZID:America/Vancouver
BEGIN:DAYLIGHT
TZOFFSETFROM:-0800
TZOFFSETTO:-0700
TZNAME:PDT
DTSTART:20230312T100000
END:DAYLIGHT
BEGIN:STANDARD
TZOFFSETFROM:-0700
TZOFFSETTO:-0800
TZNAME:PST
DTSTART:20231105T090000
END:STANDARD
END:VTIMEZONE
BEGIN:VEVENT
DTSTART;TZID=America/Vancouver:20230617T100000
DTEND;TZID=America/Vancouver:20230617T140000
DTSTAMP:20230820T220604
CREATED:20230515T220603Z
LAST-MODIFIED:20230515T220603Z
UID:21202-1686996000-1687010400@www.kitsap-humane.org
SUMMARY:Destination Harley-Davidson of Silverdale Adoption Event
DESCRIPTION:Get your motor runnin’ to this adoption event!\nWe’re bringing adorable puppies and kittens to Destination Harley-Davidson of Silverdale! Join us on Saturday\, June 17\, from 10 am to 2 pm and ride off into the sunset with a new best friend. \nWHEN: Saturday\, June 17\, from 10 am – 2 pm\nWHERE: Destination Harley-Davidson\, 9625 Provost Rd NW\, Silverdale\, WA 98383 \nCheck out all of our adorable animals on our available pets page! \n
URL:https://www.kitsap-humane.org/event/destination-harley-davidson-of-silverdale-adoption-event/
LOCATION:Harley-Davidson\, 9625 Provost Rd NW\, Silverdale\, WA\, 98383
CATEGORIES:Featured
END:VEVENT
END:VCALENDAR